BEGIN:VCALENDAR
VERSION:2.0
PRODID:-//jEvents 2.0 for Joomla//EN
CALSCALE:GREGORIAN
METHOD:PUBLISH
BEGIN:VEVENT
UID:0494f0ccaf2e78bf0c8cc68f69e121d7
CATEGORIES:18. Bezirk
CREATED:19700101T010000
SUMMARY:Mama-Baby-Yoga
LOCATION:Spielringel  Mollgasse  11-13
DESCRIPTION:<p class="xp1" style="box-sizing: border-box; margin-top: 0px; margin-botto
 m: 1rem; color: #2b2b2b; font-family: Roboto; font-size: 16px;">Du möchtest
  Dir Zeit für Dich nehmen, Deinen Körper sanft kräftigen und gleichzeitig d
 ie Verbindung zu Deinem Baby stärken?&nbsp;</p><p class="xp1" style="box-si
 zing: border-box; margin-top: 0px; margin-bottom: 1rem; color: #2b2b2b; fon
 t-family: Roboto; font-size: 16px;">Dann ist Mama-Baby-Yoga genau das Richt
 ige für Dich! Dieser Kurs bietet Dir die Möglichkeit, nach der Geburt achts
 am in Bewegung zu kommen – gemeinsam mit Deinem Baby.</p><p class="xp1" sty
 le="box-sizing: border-box; margin-top: 0px; margin-bottom: 1rem; color: #2
 b2b2b; font-family: Roboto; font-size: 16px;">In einer entspannten und wert
 schätzenden Atmosphäre findest Du zurück zu Deiner inneren Balance. Die Übu
 ngen sind speziell auf die Bedürfnisse von Mamas im ersten Babyjahr abgesti
 mmt und beinhalten sanfte Rückbildungsimpulse, stärkende Yoga-Flows, Atemüb
 ungen sowie Entspannungseinheiten – Dein Baby ist dabei stets willkommen un
 d wird liebevoll integriert.</p><p class="xp1" style="box-sizing: border-bo
 x; margin-top: 0px; margin-bottom: 1rem; color: #2b2b2b; font-family: Robot
 o; font-size: 16px;"><span style="box-sizing: border-box; font-weight: bold
 er;">Nach Rücksprache mit Deinem Arzt oder Deiner Hebamme kannst Du ab 6 Wo
 chen nach der Geburt starten</span>, sofern es Dir und Deinem Baby gut geht
 .</p><p class="xp1" style="box-sizing: border-box; margin-top: 0px; margin-
 bottom: 1rem; color: #2b2b2b; font-family: Roboto; font-size: 16px;">&nbsp;
 </p>
CONTACT:www.spielringel.at
X-EXTRAINFO:[preis='10000'][anmeldung='true']
DTSTAMP:20260426T033812
DTSTART:20251017T073000
DTEND:20251017T083000
SEQUENCE:0
RRULE:FREQ=WEEKLY;UNTIL=20251118T000000Z;INTERVAL=1;BYDAY=FR
TRANSP:OPAQUE
END:VEVENT
END:VCALENDAR