BEGIN:VCALENDAR
VERSION:2.0
PRODID:-//jEvents 2.0 for Joomla//EN
CALSCALE:GREGORIAN
METHOD:PUBLISH
BEGIN:VEVENT
UID:8da068ecf264e630d28023dd522901e1
CATEGORIES:1. Bezirk
CREATED:20251015T080152
SUMMARY:KINDERKONZERT ab 2 Jahren / KLASSIK COOL! DIE GRILLE UND DIE AMEISE
LOCATION:Haus der Musik\, 1.\, Seilerstätte 30
DESCRIPTION:🐜🦗 KLASSIK COOL!Die Grille und die Ameise\nDie Grille musiziert den ganzen 
 Sommer lang. 🎶 Aber was soll sie essen, wenn sie keine Körner gesammelt hat
 ? Und wo soll sie wohnen, wenn sie kein Haus gebaut hat?Eine verspielte und
  doch tiefgründige Geschichte über Musik, Freundschaft und den Lauf der Jah
 reszeiten. 🌿✨Mit Musik von Bartók, Liszt &amp; Schubert. Zum Mitsingen und 
 Mitmachen für Kinder ab 2 Jahren! 💫\nNach dem Konzert können interessierte 
 Kinder die Instrumente auch ausprobieren.\nMit Erzählung, Violine, Klavier.
 🎟️ Karten: ww (https://www.kinderkonzerte.wien)w.kinderkonzerte.wien (https
 ://www.kinderkonzerte.wien)\nBilder und Videos: https://www.instagram.com/k
 lassikcool/ (https://www.instagram.com/klassikcool/)\nKLASSIK COOL! gibt es
  auch für Kindergartengruppen und Volksschulklassen. Wir sind Partner der W
 iener Bildungschancen. Mehr darüber auf unsere Webseite.\n
X-ALT-DESC;FMTTYPE=text/html:<p><br style="color: #000000; font-family: -apple-system, BlinkMacSystemFon
 t, 'Segoe UI', Roboto, Helvetica, Arial, sans-serif; font-size: 14px;" /><s
 pan style="color: #000000; font-family: -apple-system, BlinkMacSystemFont, 
 'Segoe UI', Roboto, Helvetica, Arial, sans-serif; font-size: 14px;">🐜🦗<stro
 ng> KLASSIK COOL!</strong></span><strong><br style="color: #000000; font-fa
 mily: -apple-system, BlinkMacSystemFont, 'Segoe UI', Roboto, Helvetica, Ari
 al, sans-serif; font-size: 14px;" /><span style="color: #000000; font-famil
 y: -apple-system, BlinkMacSystemFont, 'Segoe UI', Roboto, Helvetica, Arial,
  sans-serif; font-size: 14px;">Die Grille und die Ameise</span></strong></p
 ><p><span style="color: #000000; font-family: -apple-system, BlinkMacSystem
 Font, 'Segoe UI', Roboto, Helvetica, Arial, sans-serif; font-size: 14px;">D
 ie Grille musiziert den ganzen Sommer lang. 🎶 Aber was soll sie essen, wenn
  sie keine Körner gesammelt hat? Und wo soll sie wohnen, wenn sie kein Haus
  gebaut hat?</span><br style="color: #000000; font-family: -apple-system, B
 linkMacSystemFont, 'Segoe UI', Roboto, Helvetica, Arial, sans-serif; font-s
 ize: 14px;" /><br style="color: #000000; font-family: -apple-system, BlinkM
 acSystemFont, 'Segoe UI', Roboto, Helvetica, Arial, sans-serif; font-size: 
 14px;" /><span style="color: #000000; font-family: -apple-system, BlinkMacS
 ystemFont, 'Segoe UI', Roboto, Helvetica, Arial, sans-serif; font-size: 14p
 x;">Eine verspielte und doch tiefgründige Geschichte über Musik, Freundscha
 ft und den Lauf der Jahreszeiten. 🌿✨</span><br style="color: #000000; font-
 family: -apple-system, BlinkMacSystemFont, 'Segoe UI', Roboto, Helvetica, A
 rial, sans-serif; font-size: 14px;" /><br style="color: #000000; font-famil
 y: -apple-system, BlinkMacSystemFont, 'Segoe UI', Roboto, Helvetica, Arial,
  sans-serif; font-size: 14px;" /><span style="color: #000000; font-family: 
 -apple-system, BlinkMacSystemFont, 'Segoe UI', Roboto, Helvetica, Arial, sa
 ns-serif; font-size: 14px;">Mit Musik von Bartók, Liszt &amp; Schubert. Zum
  Mitsingen und Mitmachen für Kinder ab 2 Jahren! 💫</span></p><p>Nach dem Ko
 nzert können interessierte Kinder die <strong>Instrumente auch ausprobieren
 .</strong></p><p>Mit Erzählung, Violine, Klavier.<br style="color: #000000;
  font-family: -apple-system, BlinkMacSystemFont, 'Segoe UI', Roboto, Helvet
 ica, Arial, sans-serif; font-size: 14px;" /><br style="color: #000000; font
 -family: -apple-system, BlinkMacSystemFont, 'Segoe UI', Roboto, Helvetica, 
 Arial, sans-serif; font-size: 14px;" /><span style="color: #000000; font-fa
 mily: -apple-system, BlinkMacSystemFont, 'Segoe UI', Roboto, Helvetica, Ari
 al, sans-serif; font-size: 14px;">🎟️ Karten: <a href="https://www.kinderkon
 zerte.wien">ww</a><a href="https://www.kinderkonzerte.wien">w.kinderkonzert
 e.wien</a></span><br style="color: #000000; font-family: -apple-system, Bli
 nkMacSystemFont, 'Segoe UI', Roboto, Helvetica, Arial, sans-serif; font-siz
 e: 14px;" /></p><p>Bilder und Videos:&nbsp;<a href="https://www.instagram.c
 om/klassikcool/">https://www.instagram.com/klassikcool/</a></p><p><span sty
 le="color: #000000; font-family: -apple-system, BlinkMacSystemFont, 'Segoe 
 UI', Roboto, Helvetica, Arial, sans-serif;"><span style="font-size: 14px;">
 KLASSIK COOL! gibt es auch für Kindergartengruppen und Volksschulklassen. W
 ir sind Partner der Wiener Bildungschancen. Mehr darüber auf unsere Webseit
 e.</span></span></p>
CONTACT:office@hdm.at
X-EXTRAINFO:[preis='1500'][anmeldung='true']
DTSTAMP:20260426T023809
DTSTART:20251019T140000
DTEND:20251019T144500
SEQUENCE:0
TRANSP:OPAQUE
END:VEVENT
END:VCALENDAR