BEGIN:VCALENDAR
VERSION:2.0
PRODID:-//jEvents 2.0 for Joomla//EN
CALSCALE:GREGORIAN
METHOD:PUBLISH
BEGIN:VEVENT
UID:eee26268ee118bd4503b375cc017273c
CATEGORIES:1. Bezirk
CREATED:20251015T094534
SUMMARY:BABYKONZERT / KLASSIK COOL! KLANGZAUBER für Babys
LOCATION:Haus der Musik\, 1.\, Seilerstätte 30 
DESCRIPTION:<p><span style="color: #000000; font-family: -apple-system, BlinkMacSystemF
 ont, 'Segoe UI', Roboto, Helvetica, Arial, sans-serif; font-size: 14px;">🎶 
 Mit sanften Tönen und verträumten Farben 🎨✨</span><br style="color: #000000
 ; font-family: -apple-system, BlinkMacSystemFont, 'Segoe UI', Roboto, Helve
 tica, Arial, sans-serif; font-size: 14px;" /><span style="color: #000000; f
 ont-family: -apple-system, BlinkMacSystemFont, 'Segoe UI', Roboto, Helvetic
 a, Arial, sans-serif; font-size: 14px;">Ein musikalisches Erlebnis für Elte
 rn und Babys 💕</span><br style="color: #000000; font-family: -apple-system,
  BlinkMacSystemFont, 'Segoe UI', Roboto, Helvetica, Arial, sans-serif; font
 -size: 14px;" /><br style="color: #000000; font-family: -apple-system, Blin
 kMacSystemFont, 'Segoe UI', Roboto, Helvetica, Arial, sans-serif; font-size
 : 14px;" /><span style="color: #000000; font-family: -apple-system, BlinkMa
 cSystemFont, 'Segoe UI', Roboto, Helvetica, Arial, sans-serif; font-size: 1
 4px;">Taucht ein in unsere neue Konzertreihe „Klassik Cool! Babykonzerte“ –
  wo Musik und Kunst zu einem ganzheitlichen Erlebnis verschmelzen. 🌸</span>
 <br style="color: #000000; font-family: -apple-system, BlinkMacSystemFont, 
 'Segoe UI', Roboto, Helvetica, Arial, sans-serif; font-size: 14px;" /><br s
 tyle="color: #000000; font-family: -apple-system, BlinkMacSystemFont, 'Sego
 e UI', Roboto, Helvetica, Arial, sans-serif; font-size: 14px;" /><span styl
 e="color: #000000; font-family: -apple-system, BlinkMacSystemFont, 'Segoe U
 I', Roboto, Helvetica, Arial, sans-serif; font-size: 14px;">Durch die zarte
 n Klänge von Klavier und Cello erwachen Seerosen, Wellen und Libellen zum L
 eben – <strong>inspiriert von Monets berühmten Seerosenbildern.</strong> 🎼🪷
 </span><br style="color: #000000; font-family: -apple-system, BlinkMacSyste
 mFont, 'Segoe UI', Roboto, Helvetica, Arial, sans-serif; font-size: 14px;" 
 /></p><p style="border: 0px; font-size: 15px; margin: 0px 0px 1.625em; outl
 ine: 0px; padding: 0px; vertical-align: baseline; color: #373737;"><strong 
 style="border: 0px; font-family: inherit; font-style: inherit; margin: 0px;
  outline: 0px; padding: 0px; vertical-align: baseline;">Krabbelkonzert</str
 ong>e bieten&nbsp;<strong style="border: 0px; font-family: inherit; font-st
 yle: inherit; margin: 0px; outline: 0px; padding: 0px; vertical-align: base
 line;">Musik für Babys</strong>, Eltern, Großeltern,<br />eine gemeinsame, 
 verbindende musikalische Erlebnis.</p><p style="border: 0px; font-size: 15p
 x; margin: 0px 0px 1.625em; outline: 0px; padding: 0px; vertical-align: bas
 eline; color: #373737;"><strong style="border: 0px; font-family: inherit; f
 ont-style: inherit; margin: 0px; outline: 0px; padding: 0px; vertical-align
 : baseline;">Klassik Cool! Babykonzerte</strong>&nbsp;sind kurzweilig, ents
 pannend,&nbsp; anregend, abwechslungsreich. Schon die Jüngsten reagieren mi
 t Interesse bis Begeisterung auf die komplexen Töne, wiegen sich zum Rhythm
 us der Musik und lassen sich von der Musiklust der Eltern anstecken. Dauer:
  ca 40 Minuten</p><p style="border: 0px; font-size: 15px; margin: 0px 0px 1
 .625em; outline: 0px; padding: 0px; vertical-align: baseline; color: #37373
 7;">Karten: 9 Euro pro Person (sowohl Erwachsene als auch Babys)<br />Karte
 nverkauf über die Webseite <a href="https://www.kinderkonzerte.wien">www.ki
 nderkonzerte.wien</a></p><p style="border: 0px; font-size: 15px; margin: 0p
 x 0px 1.625em; outline: 0px; padding: 0px; vertical-align: baseline; color:
  #373737;">Eventuelle Restkarten an der Tageskassa.</p><p>&nbsp;</p>
CONTACT:office@grossundklein.info
X-EXTRAINFO:[preis='1300'][anmeldung='true']
DTSTAMP:20260426T024955
DTSTART:20251109T093000
DTEND:20251109T101000
SEQUENCE:0
TRANSP:OPAQUE
END:VEVENT
END:VCALENDAR