BEGIN:VCALENDAR
VERSION:2.0
PRODID:-//jEvents 2.0 for Joomla//EN
CALSCALE:GREGORIAN
METHOD:PUBLISH
BEGIN:VEVENT
UID:7492760b68087d40fbd0fccfe5b90f72
CATEGORIES:1. Bezirk
CREATED:20251015T132640
SUMMARY:Philo-animationsfilm Workshop
LOCATION:Wien
DESCRIPTION:<p>Philosophie auf spielerische Weise entdecken, durch die Kombination der 
 Praxis des Gesprächs mit einem künstlerischen Prozess: dem Animationsfilm. 
 <br />Durch Situationen, die von Puppenphilosophen dargestellt werden, werd
 en die Kinder und Jugend eingeladen, ein Thema zu erkunden. <br />Zum Beisp
 iel: Was ist Freiheit? Was ist Angst? Was bedeutet es, erwachsen zu werden?
  nach der Gruppendiskussion werden die Kinder zusammenarbeiten, um einen ku
 rzen Animationsfilm zu erstellen! <br /> Die Workshops werden von der Regis
 seurin Rebecca Akoun geleitet.&nbsp;</p><p>&nbsp;</p><p>&nbsp;</p>
CONTACT:Aniki
X-EXTRAINFO:[preis='10500'][anmeldung='true']
DTSTAMP:20260426T011153
DTSTART:20251108T090000
DTEND:20251109T110000
SEQUENCE:0
TRANSP:OPAQUE
END:VEVENT
END:VCALENDAR