BEGIN:VCALENDAR
VERSION:2.0
PRODID:-//jEvents 2.0 for Joomla//EN
CALSCALE:GREGORIAN
METHOD:PUBLISH
BEGIN:VEVENT
UID:efe3844d2d4154b996937f814edf0d1d
CATEGORIES:11. Bezirk
CREATED:20251120T091057
SUMMARY:Familienfotoshooting in Kinder City Wien
LOCATION:Kinder City\, Simmeringer Hauptstraße 7\, 1110 Wien
DESCRIPTION:🎄📸 Weihnachtliches Familienshooting in Kinder City Wien! 🎅✨\nErlebt die Mag
 ie von Weihnachten und haltet wunderschöne Familienmomente fest! ❤️\n📅 Wann
 : 1.12. von 14:00 bis 19:00 Uhr\n📍 Wo: Kinder City Wien\n💰 Preis für das Fo
 toshooting: 70€ (nur Barzahlung)\nInklusive:1 Weihnachtsset, 5 fein retusch
 ierte digitale Bilder in Farbe und SW (Bildauswahl trefft ihr in Ruhe vom d
 aheim), Dauer ca 20-30 Minuten\n🎟️ Eintritt:\n10€ (1 Erwachsener + 1 Kind)\
 nJede weitere Person +5€\nWährend ihr auf euer Shooting wartet, könnt ihr e
 uch in der Spiel- und Weihnachtswerkstatt vergnügen! 🎁👩‍🎨\n📸 Die Teilnehmer
 zahl ist begrenzt, also sichert euch schnell euren Platz!\n \n
X-ALT-DESC;FMTTYPE=text/html:<p>🎄📸 Weihnachtliches Familienshooting in Kinder City Wien! 🎅✨</p><p>Erlebt
  die Magie von Weihnachten und haltet wunderschöne Familienmomente fest! ❤️
 </p><p>📅 Wann: 1.12. von 14:00 bis 19:00 Uhr</p><p>📍 Wo: Kinder City Wien</
 p><p>💰 Preis für das Fotoshooting: 70€ (nur Barzahlung)</p><p>Inklusive:1 W
 eihnachtsset, 5 fein retuschierte digitale Bilder in Farbe und SW (Bildausw
 ahl trefft ihr in Ruhe vom daheim), Dauer ca 20-30 Minuten</p><p>🎟️ Eintrit
 t:</p><p>10€ (1 Erwachsener + 1 Kind)</p><p>Jede weitere Person +5€</p><p>W
 ährend ihr auf euer Shooting wartet, könnt ihr euch in der Spiel- und Weihn
 achtswerkstatt vergnügen! 🎁👩‍🎨</p><p>📸 Die Teilnehmerzahl ist begrenzt, als
 o sichert euch schnell euren Platz!</p><p>&nbsp;</p>
CONTACT:06763284722
X-EXTRAINFO:[preis='7000'][anmeldung='true']
DTSTAMP:20260425T233217
DTSTART:20251201T130000
DTEND:20251201T180000
SEQUENCE:0
TRANSP:OPAQUE
END:VEVENT
END:VCALENDAR