BEGIN:VCALENDAR
VERSION:2.0
PRODID:-//jEvents 2.0 for Joomla//EN
CALSCALE:GREGORIAN
METHOD:PUBLISH
BEGIN:VEVENT
UID:5947b7af1429bb94b752388d97d76a95
CATEGORIES:Online
CREATED:20251125T112819
SUMMARY:Physiotherapeutischer Geburtsvorbereitungskurs: Arbeit mit Körper und Bewegung
LOCATION:online
DESCRIPTION:<p class="MsoNormal">Wie kann man den Geburtsverlauf positiv beeinflussen?<
 /p><p class="MsoNormal">An meinem Kurs nehmen nicht nur Erstgebärende teil,
  sondern auch viele Frauen, die bereits Kinder haben und deren Geburten and
 ers verlaufen sind als erhofft.<br />Der Kurs findet live über Zoom statt, 
 wird aber auch aufgezeichnet. Es ist daher kein Problem, wenn du nicht live
  dabei sein kannst oder verspätet einsteigst!<br /><br />Termine:<br />Di, 
 2.12., 9:15-11:15<br />Di, 9.12., 9:15-11:15<br />So, 14.12., 9:30-11:30<br
  /><br />Darum geht es im Kurs:<br />Wie kann ich meinem Baby helfen, die o
 ptimale Startposition zu finden - schon in der Schwangerschaft, aber auch d
 irekt während der Geburt?<br />Was kann ich gegen schwangerschaftsbedingte 
 Schmerzen tun?<br />Durch welche Positionen und Bewegungen kann ich den Geb
 urtsverlauf positiv beeinflussen und welche können nachteilig sein?<br />Wa
 rum sollte ich meinen Beckenboden schon jetzt trainieren und wie funktionie
 rt das?<br />Wie läuft eine Geburt ab?<br />Was hat es mit der richtigen At
 mung auf sich?<br />Wie bewegt sich das Kind durch das Becken?<br />Was tun
  bei Beckenendlage oder Sternguckern?<br />Warum ist es wichtig, als gebäre
 nde Person gut informiert zu sein?<br />Wie kann ich mithelfen, Geburtsverl
 etzungen vorzubeugen?<br />Wie setze ich meinen Körper während der Geburt o
 ptimal ein?<br />Wie kann mich mein/e Partner*in bestmöglich unterstützen?<
 br />Wie gestalte ich die Geburt aktiv mit, statt mich passiv entbinden zu 
 lassen?<br />Was kann ich selbst oder mein/e Partner*in gegen den Wehenschm
 erz tun?<br />Was ist nach der Geburt wichtig für meinen Körper?</p><p clas
 s="MsoNormal">All das und mehr besprechen wir in diesem Kurs. Er kann und s
 oll die Geburtsvorbereitung mit einer Hebamme keineswegs ersetzen, ist aber
  eine sinnvolle Ergänzung dazu. Ich habe als Physiotherapeutin einschlägige
  Fortbildungen absolviert, eng mit Hebammen zusammengearbeitet, einige Gebu
 rten im beruflichen Kontext miterlebt (Krankenhaus, Hausgeburt) und zwei ei
 gene Kinder geboren (Krankenhaus, Geburtshaus).</p><p class="MsoNormal">Die
  Teilnahme ist ab der 13. Schwangerschaftswoche möglich. Der dritte Termin 
 sollte am besten mit Partner*in besucht werden, ist aber auch mit einer and
 eren Begleitperson oder notfalls alleine möglich.&nbsp;Es dürfen nur Schwan
 gere teilnehmen, dies ist keine Fortbildung!<br /><br />Die Kosten von € 10
 8 beziehen sich auf den gesamten Kurs, nicht pro Termin.</p>
CONTACT:http://www.physiomattes.at/geburtsvorbereitungskurse (http://www.physiomattes.at/geburtsvorbereitungskurse)
X-EXTRAINFO:[preis='10800'][anmeldung='true']
DTSTAMP:20260425T205852
DTSTART:20251214T083000
DTEND:20251214T103000
SEQUENCE:0
TRANSP:OPAQUE
END:VEVENT
END:VCALENDAR