BEGIN:VCALENDAR
VERSION:2.0
PRODID:-//jEvents 2.0 for Joomla//EN
CALSCALE:GREGORIAN
METHOD:PUBLISH
BEGIN:VEVENT
UID:63c24876b23c734dc9119fd2064668bb
CATEGORIES:2. Bezirk
CREATED:20191129T124246
SUMMARY:Beckenbodenkurs
LOCATION:Kind und Kegel\, 1020 Wien
DESCRIPTION:In diesem 5-wöchigen Kurs beschäftigen wir uns damit, den Beckenboden kenne
 nzulernen, wahrzunehmen und zu kräftigen. In jeder 90-minütigen Einheit wir
 d auch theoretisches Wissen zum Beckenboden vermittelt und Tipps zu einem b
 eckenbodenfreundlichen Alltag gegeben.\nDie Einheiten bestehen sowohl aus E
 ntspannungstechniken, Wahrnehmungsübungen und Kräftigung als auch Wissensve
 rmittlung. Ziel ist es, in diesen 5 Wochen einen funktionstüchtigen Beckenb
 oden zu erreichen oder den Beckenboden weiter zu verbessern.\nBitte bequeme
  Kleidung, dicke Socken und eine Liegematte mitbringen. Wer möchte, kann si
 ch etwas zum Schreiben mitnehmen, um sich Notizen zu machen. \nKosten\n80€ 
 inklusive Kursunterlagen\n \nWie funktioniert die Anmeldung?\nDie Kursanmel
 dung und Bezahlung erfolgt über das Kind&amp;Kegel. Bei Fragen bin ich tele
 fonisch unter 0680/1229442 oder per E-Mail (conny@gefuehlsecht.at (mailto:c
 onny@gefuehlsecht.at)) erreichbar.\nNähere Informationen zu mir und meinem 
 Angebot gibt es auf meiner Website unter www.gefuehlsecht.at (http://www.ge
 fuehlsecht.at)!\n
X-ALT-DESC;FMTTYPE=text/html:<p>In diesem 5-wöchigen Kurs beschäftigen wir uns damit, den Beckenboden ke
 nnenzulernen, wahrzunehmen und zu kräftigen. In jeder 90-minütigen Einheit 
 wird auch theoretisches Wissen zum Beckenboden vermittelt und Tipps zu eine
 m beckenbodenfreundlichen Alltag gegeben.</p><p>Die Einheiten bestehen sowo
 hl aus Entspannungstechniken, Wahrnehmungsübungen und Kräftigung als auch W
 issensvermittlung. Ziel ist es, in diesen 5 Wochen einen funktionstüchtigen
  Beckenboden zu erreichen oder den Beckenboden weiter zu verbessern.</p><p>
 Bitte bequeme Kleidung, dicke Socken und eine Liegematte mitbringen. Wer mö
 chte, kann sich etwas zum Schreiben mitnehmen, um sich Notizen zu machen. <
 /p><p><strong>Kosten</strong></p><p>80€ inklusive Kursunterlagen</p><p> </p
 ><p><strong>Wie funktioniert die Anmeldung?</strong></p><p>Die Kursanmeldun
 g und Bezahlung erfolgt über das Kind&amp;Kegel. Bei Fragen bin ich telefon
 isch unter 0680/1229442 oder per E-Mail (<a href="mailto:conny@gefuehlsecht
 .at">conny@gefuehlsecht.at</a>) erreichbar.</p><p>Nähere Informationen zu m
 ir und meinem Angebot gibt es auf meiner Website unter <a href="http://www.
 gefuehlsecht.at">www.gefuehlsecht.at</a>!</p>
CONTACT:conny@gefuehlsecht.at
X-EXTRAINFO:[preis='8000'][anmeldung='true']
DTSTAMP:20260425T013108
DTSTART:20200515T063000
DTEND:20200515T080000
SEQUENCE:0
TRANSP:OPAQUE
END:VEVENT
END:VCALENDAR