BEGIN:VCALENDAR
VERSION:2.0
PRODID:-//jEvents 2.0 for Joomla//EN
CALSCALE:GREGORIAN
METHOD:PUBLISH
BEGIN:VEVENT
UID:5a563297b29bb08beada74a371bc6f3a
CATEGORIES:8. Bezirk
CREATED:20231108T143552
SUMMARY:Mama Baby Yoga (rückbildend)
LOCATION:Lederergasse 21\, 1080 Wien
DESCRIPTION:<h2 id="cc-m-header-14131594289" class="headline cc-m-header-inline-rte" st
 yle="overflow-wrap: break-word; font-family: 'Roboto Condensed', sans-serif
 , google; font-weight: normal; margin: 0px; font-size: 3.6rem; line-height:
  1.25; color: #6ab889; outline: currentcolor; min-height: 45px;" data-actio
 n="header" data-name="header">Mama Baby Yoga</h2><p><span style="font-size:
  16px; caret-color: #000000; color: #000000; font-family: 'Roboto Condensed
 ', sans-serif, google;">Kursstart&nbsp;</span><span style="color: #6bb88a;"
 ><strong>21. November</strong></span><span style="font-size: 16px; caret-co
 lor: #000000; color: #000000; font-family: 'Roboto Condensed', sans-serif, 
 google;">&nbsp;- sichere dir gleich deinen Platz (info@treehut-yoga.com ode
 r +43 664 1305017)</span></p><p>&nbsp;</p><p style="font-size: 16px; margin
 : 0px; caret-color: #000000; color: #000000; font-family: 'Roboto Condensed
 ', sans-serif, google;">Beim Mama Baby Yoga unterstützen und helfen wir uns
 erem Körper bei der Rückbildung. Der Fokus liegt auf Übungen für den Becken
 boden, die Rectusdiastase und die Stärkung des Rückens.</p><p style="font-s
 ize: 16px; margin: 0px; caret-color: #000000; color: #000000; font-family: 
 'Roboto Condensed', sans-serif, google;"><a href="/app/s8cb3559982fa1961/p2
 c4abd504d88f64d/" style="cursor: pointer; color: #6ab889; transition: color
  0.3s ease-in;" title="Mama Baby Yoga">Mehr Infos&nbsp;Mama Baby Yoga</a></
 p><p style="font-size: 16px; margin: 0px; caret-color: #000000; color: #000
 000; font-family: 'Roboto Condensed', sans-serif, google;">&nbsp;</p><p sty
 le="font-size: 16px; margin: 0px; caret-color: #000000; color: #000000; fon
 t-family: 'Roboto Condensed', sans-serif, google;"><strong>Termine:</strong
 >&nbsp;Dienstags 21.11./28.11./5.12./12.12.</p><p style="font-size: 16px; m
 argin: 0px; caret-color: #000000; color: #000000; font-family: 'Roboto Cond
 ensed', sans-serif, google;"><strong>Zeit:</strong>&nbsp;10:30 - 11:45</p><
 p style="font-size: 16px; margin: 0px; caret-color: #000000; color: #000000
 ; font-family: 'Roboto Condensed', sans-serif, google;">&nbsp;</p><p style=
 "font-size: 16px; margin: 0px; caret-color: #000000; color: #000000; font-f
 amily: 'Roboto Condensed', sans-serif, google;"><strong>Wo:</strong>&nbsp;@
  Yogaria, Lederergasse 21, 1080 Wien</p><p style="font-size: 16px; margin: 
 0px; caret-color: #000000; color: #000000; font-family: 'Roboto Condensed',
  sans-serif, google;"><strong>Preis:</strong>&nbsp;€ 85 (4 Termine)</p>
X-ALT-DESC;FMTTYPE=text/html:<h2 id="cc-m-header-14131594289" class="headline cc-m-header-inline-rte" st
 yle="overflow-wrap: break-word; font-family: 'Roboto Condensed', sans-serif
 , google; font-weight: normal; margin: 0px; font-size: 3.6rem; line-height:
  1.25; color: #6ab889; outline: currentcolor; min-height: 45px;" data-actio
 n="https://www.babymamas.at/header" data-name="header">Mama Baby Yoga</h2><
 p><span style="font-size: 16px; caret-color: #000000; color: #000000; font-
 family: 'Roboto Condensed', sans-serif, google;">Kursstart&nbsp;</span><spa
 n style="color: #6bb88a;"><strong>21. November</strong></span><span style="
 font-size: 16px; caret-color: #000000; color: #000000; font-family: 'Roboto
  Condensed', sans-serif, google;">&nbsp;- sichere dir gleich deinen Platz (
 info@treehut-yoga.com oder +43 664 1305017)</span></p><p>&nbsp;</p><p style
 ="font-size: 16px; margin: 0px; caret-color: #000000; color: #000000; font-
 family: 'Roboto Condensed', sans-serif, google;">Beim Mama Baby Yoga unters
 tützen und helfen wir unserem Körper bei der Rückbildung. Der Fokus liegt a
 uf Übungen für den Beckenboden, die Rectusdiastase und die Stärkung des Rüc
 kens.</p><p style="font-size: 16px; margin: 0px; caret-color: #000000; colo
 r: #000000; font-family: 'Roboto Condensed', sans-serif, google;"><a href="
 https://www.babymamas.at/app/s8cb3559982fa1961/p2c4abd504d88f64d/" style="c
 ursor: pointer; color: #6ab889; transition: color 0.3s ease-in;" title="Mam
 a Baby Yoga">Mehr Infos&nbsp;Mama Baby Yoga</a></p><p style="font-size: 16p
 x; margin: 0px; caret-color: #000000; color: #000000; font-family: 'Roboto 
 Condensed', sans-serif, google;">&nbsp;</p><p style="font-size: 16px; margi
 n: 0px; caret-color: #000000; color: #000000; font-family: 'Roboto Condense
 d', sans-serif, google;"><strong>Termine:</strong>&nbsp;Dienstags 21.11./28
 .11./5.12./12.12.</p><p style="font-size: 16px; margin: 0px; caret-color: #
 000000; color: #000000; font-family: 'Roboto Condensed', sans-serif, google
 ;"><strong>Zeit:</strong>&nbsp;10:30 - 11:45</p><p style="font-size: 16px; 
 margin: 0px; caret-color: #000000; color: #000000; font-family: 'Roboto Con
 densed', sans-serif, google;">&nbsp;</p><p style="font-size: 16px; margin: 
 0px; caret-color: #000000; color: #000000; font-family: 'Roboto Condensed',
  sans-serif, google;"><strong>Wo:</strong>&nbsp;@ Yogaria, Lederergasse 21,
  1080 Wien</p><p style="font-size: 16px; margin: 0px; caret-color: #000000;
  color: #000000; font-family: 'Roboto Condensed', sans-serif, google;"><str
 ong>Preis:</strong>&nbsp;€ 85 (4 Termine)</p>
CONTACT:Sissi Baumgartner +43 664 1305017
X-EXTRAINFO:[preis='000'][anmeldung='true']
DTSTAMP:20260424T190525
DTSTART:20231205T093000
DTEND:20231205T104500
SEQUENCE:0
TRANSP:OPAQUE
END:VEVENT
END:VCALENDAR