BEGIN:VCALENDAR
VERSION:2.0
PRODID:-//jEvents 2.0 for Joomla//EN
CALSCALE:GREGORIAN
METHOD:PUBLISH
BEGIN:VEVENT
UID:2e4c0bed8c652954ae1f414f8838e205
CATEGORIES:15. Bezirk
CREATED:20240510T093343
SUMMARY:Mama-Baby-Yoga
LOCATION:VHS Rudolfsheim-Fünfhaus
DESCRIPTION:<p>Mit sanften Yoga-Übungen wird der Beckenboden gestärkt und die Rücken- u
 nd Bauchmuskulatur trainiert. Entspannungselemente tragen zum körperlichen 
 Wohlbefinden bei. Die Möglichkeit zum Erfahrungsaustausch mit anderen Mütte
 rn gibt zudem mehr Sicherheit in der neuen Lebensphase. Das Baby ist mit da
 bei!&nbsp;</p>
CONTACT:01/891 74 115 000
X-EXTRAINFO:[preis='3200'][anmeldung='true']
DTSTAMP:20260423T101809
DTSTART:20240702T083000
DTEND:20240702T093000
SEQUENCE:0
TRANSP:OPAQUE
END:VEVENT
END:VCALENDAR