BEGIN:VCALENDAR
VERSION:2.0
PRODID:-//jEvents 2.0 for Joomla//EN
CALSCALE:GREGORIAN
METHOD:PUBLISH
BEGIN:VEVENT
UID:d36817cea38d049c8cfe31c34b654727
CATEGORIES:15. Bezirk
CREATED:20240510T093710
SUMMARY:Eltern-Kind-Turnen (1,5-3,5 Jahre)
LOCATION:VHS Rudolfsheim-Fünfhaus
DESCRIPTION:Dieses abwechslungsreiche Spiel- und Bewegungsprogramm bietet Kindern die M
 öglichkeit, gemeinsam mit ihren Eltern neue Bewegungserfahrungen zu machen.
  Sie entwickeln dadurch mehr Sicherheit und Vertrauen in die eigenen Fähigk
 eiten. Oft findet in diesem Rahmen der erste, behutsam begleitete Kontakt m
 it anderen Kindern statt. Altersgerechte Spiele, Tänze und jede Menge Geleg
 enheit zum Turnen und Toben fördern Beweglichkeit, Geschicklichkeit und Rhy
 thmusgefühl. Ziel: Die Kinder verfügen über mehr Bewegungssicherheit und -f
 reiheit im Alltag.\n
X-ALT-DESC;FMTTYPE=text/html:<p>Dieses abwechslungsreiche Spiel- und Bewegungsprogramm bietet Kindern di
 e Möglichkeit, gemeinsam mit ihren Eltern neue Bewegungserfahrungen zu mach
 en. Sie entwickeln dadurch mehr Sicherheit und Vertrauen in die eigenen Fäh
 igkeiten. Oft findet in diesem Rahmen der erste, behutsam begleitete Kontak
 t mit anderen Kindern statt. Altersgerechte Spiele, Tänze und jede Menge Ge
 legenheit zum Turnen und Toben fördern Beweglichkeit, Geschicklichkeit und 
 Rhythmusgefühl. Ziel: Die Kinder verfügen über mehr Bewegungssicherheit und
  -freiheit im Alltag.</p>
CONTACT:01/891 74 115 000
X-EXTRAINFO:[preis='2900'][anmeldung='true']
DTSTAMP:20260423T111321
DTSTART:20240625T130000
DTEND:20240625T140000
SEQUENCE:0
TRANSP:OPAQUE
END:VEVENT
END:VCALENDAR