BEGIN:VCALENDAR
VERSION:2.0
PRODID:-//jEvents 2.0 for Joomla//EN
CALSCALE:GREGORIAN
METHOD:PUBLISH
BEGIN:VEVENT
UID:c802b387d6da933fdf98f0cb8be8307a
CATEGORIES:18. Bezirk
CREATED:20240515T125105
SUMMARY:Bewegung und Tanz mit Babyzeichensprache
LOCATION:Spielringel\, Mollgasse 11-13
DESCRIPTION:Bewegung und Tanz mit BabyzeichenspracheAltersempfehlung: Ab 5 MonateStart:
   05.06.2024\nMit: Markus (https://spielringel.at/angebote/das-team/markus-
 bittner)\nKurstag:  Mittwoch 09:30-10:30\nTermine:  05.06., 12.06., 19.06.,
  26.06., 03.07.\nKosten:  €95,- (5 Einheiten)\nIn diesem Kurs lernst du 50 
 Babyzeichen, sowie neue Bewegungslieder. des Weiteren wird ein breites Ange
 bot an Bewegungsmaterial wie z.B. Pikler-Dreieck u.ä. zur Verfügung gestell
 t. Themengebiete der Babyzeichen sind: Stadt, Wetter, Garten &amp; Park, Kl
 eidung, Haushalt\nErste Einheit kann als Schnupperstunde gebucht werden.\nG
 ebühr Schnupperstunde: 20€ (wird bei Kursbuchung gutgeschrieben)\nWeitere I
 nfos zum Kurs gibt es hier. (https://www.markusbittner.at/kurs-modul-b/)\n 
 \n \n \n \n
X-ALT-DESC;FMTTYPE=text/html:<h2 class="element-header">Bewegung und Tanz mit Babyzeichensprache</h2><h4
 >Altersempfehlung: Ab 5 Monate</h4><p><span class="text-primary font-weight
 -bold">Start: </span> 05.06.2024</p><p><span class="text-primary font-weigh
 t-bold">Mit: </span><a href="https://spielringel.at/angebote/das-team/marku
 s-bittner">Markus</a></p><p><span class="text-primary font-weight-bold">Kur
 stag: </span> Mittwoch 09:30-10:30</p><p><span class="text-primary font-wei
 ght-bold">Termine: </span> 05.06., 12.06., 19.06., 26.06., 03.07.</p><p><sp
 an class="text-primary font-weight-bold">Kosten: </span> €95,- (5 Einheiten
 )</p><p>In diesem Kurs lernst du 50 Babyzeichen, sowie neue Bewegungslieder
 . des Weiteren wird ein breites Angebot an Bewegungsmaterial wie z.B. Pikle
 r-Dreieck u.ä. zur Verfügung gestellt. Themengebiete der Babyzeichen sind: 
 Stadt, Wetter, Garten &amp; Park, Kleidung, Haushalt</p><p>Erste Einheit ka
 nn als Schnupperstunde gebucht werden.</p><p><strong>Gebühr Schnupperstunde
 : 20€</strong> (wird bei Kursbuchung gutgeschrieben)</p><p><a href="https:/
 /www.markusbittner.at/kurs-modul-b/" target="_blank" rel="noopener noreferr
 er" title="Kurs-Modul B – Bewegung &amp; Tanz mit Babyzeichen">Weitere Info
 s zum Kurs gibt es hier.</a></p><p>&nbsp;</p><p>&nbsp;</p><p>&nbsp;</p><p>&
 nbsp;</p>
CONTACT:www.spielringel.at
X-EXTRAINFO:[preis='9500'][anmeldung='true']
DTSTAMP:20260423T094209
DTSTART:20240605T073000
DTEND:20240605T083000
SEQUENCE:0
TRANSP:OPAQUE
END:VEVENT
END:VCALENDAR