BEGIN:VCALENDAR
VERSION:2.0
PRODID:-//jEvents 2.0 for Joomla//EN
CALSCALE:GREGORIAN
METHOD:PUBLISH
BEGIN:VEVENT
UID:238c38aa479658de00da37c4f1eb831f
CATEGORIES:23. Bezirk
CREATED:20240522T143122
SUMMARY:fitdankbaby OUTDOOR - Fitness mit Kinderwagen
LOCATION:Stadtpark Atzgersdorf\, Gerbergasse 1\, 1230 Wien
DESCRIPTION:fitdankbaby Fitnesskurs für Mamas/Papas mit Babys ab 3 Monaten Wir kombinie
 ren den Spaziergang mit dem Kinderwagen mit effektiven Ganzkörperübungen an
  der frischen Luft. Die Übungen werden deinem Fitnesslevel entsprechend ang
 epasst, so dass du optimal trainieren kannst. Wir trainieren in Kleingruppe
 n in ganz entspannter, lockerer Atmosphär. Es ist auch genügend Zeit und Ra
 um um miteinander ins Gespräch zu kommen und Kontakte zu knüpfen.  Buchung 
 und weitere Informationen unter https://www.fitdankbaby.at/claudia.klinger 
 (https://www.fitdankbaby.at/claudia.klinger?fbclid=IwAR3K3YDSLTSjMi32jsQ7r2
 ScxoSryBV7dmjRojgQL35_YoolCFrzaTNpIA0) oder claudia.klinger@fitdankbaby.at
X-ALT-DESC;FMTTYPE=text/html:<div class="x11i5rnm xat24cr x1mh8g0r x1vvkbs xdj266r">fitdankbaby Fitnessk
 urs für Mamas/Papas mit Babys&nbsp;ab 3 Monaten</div><div>&nbsp;</div><div>
 Wir kombinieren den Spaziergang mit dem Kinderwagen mit effektiven Ganzkörp
 erübungen an der frischen Luft. Die Übungen werden deinem Fitnesslevel ents
 prechend angepasst, so dass du optimal trainieren kannst.</div><div>&nbsp;<
 /div><div>Wir trainieren in Kleingruppen in ganz entspannter, lockerer Atmo
 sphär. Es ist auch genügend Zeit und Raum um miteinander ins Gespräch zu ko
 mmen und Kontakte zu knüpfen.&nbsp;</div><div class="x11i5rnm xat24cr x1mh8
 g0r x1vvkbs xtlvy1s">&nbsp;</div><div class="x11i5rnm xat24cr x1mh8g0r x1vv
 kbs xtlvy1s">Buchung und weitere Informationen unter&nbsp;<a href="https://
 www.fitdankbaby.at/claudia.klinger?fbclid=IwAR3K3YDSLTSjMi32jsQ7r2ScxoSryBV
 7dmjRojgQL35_YoolCFrzaTNpIA0" target="_blank" rel="nofollow noopener norefe
 rrer" class="x1i10hfl xjbqb8w x6umtig x1b1mbwd xaqea5y xav7gou x9f619 x1ypd
 ohk xt0psk2 xe8uvvx xdj266r x11i5rnm xat24cr x1mh8g0r xexx8yu x4uap5 x18d9i
 69 xkhd6sd x16tdsg8 x1hl2dhg xggy1nq x1a2a7pz xt0b8zv x1fey0fg" tabindex="0
 ">https://www.fitdankbaby.at/claudia.klinger</a>&nbsp;oder claudia.klinger@
 fitdankbaby.at</div>
CONTACT:Claudia Klinger - claudia.klinger@fitdankbaby.at
X-EXTRAINFO:[preis='1300'][anmeldung='true']
DTSTAMP:20260423T141552
DTSTART:20240715T070000
DTEND:20240715T080000
SEQUENCE:0
TRANSP:OPAQUE
END:VEVENT
END:VCALENDAR