BEGIN:VCALENDAR
VERSION:2.0
PRODID:-//jEvents 2.0 for Joomla//EN
CALSCALE:GREGORIAN
METHOD:PUBLISH
BEGIN:VEVENT
UID:858493463d5fd05ad23a3155fe7a3b1d
CATEGORIES:18. Bezirk
CREATED:20240528T111404
SUMMARY:Babyzeichensprache-Kurs: Bewegung und Tanz mit Babyzeichen
LOCATION:Spielringel
DESCRIPTION:Infos und Anmeldung unter:\nhttps://www.markusbittner.at/veranstaltungen/mo
 dul-b-block-1-1180/\n \nWeitere Infos zu meinen Babyzeichensprache-Angebote
 n:\nwww.babyzeichen-papa.at (https://www.babyzeichen-papa.at)\n \n
X-ALT-DESC;FMTTYPE=text/html:<p>Infos und Anmeldung unter:</p><p><a href="https://www.markusbittner.at/v
 eranstaltungen/modul-b-block-1-1180/">https://www.markusbittner.at/veransta
 ltungen/modul-b-block-1-1180/</a></p><p>&nbsp;</p><p>Weitere Infos zu meine
 n Babyzeichensprache-Angeboten:</p><p><a href="https://www.babyzeichen-papa
 .at">www.babyzeichen-papa.at</a></p><p>&nbsp;</p>
CONTACT:Markus Bittner
X-EXTRAINFO:[preis='9500'][anmeldung='true']
DTSTAMP:20260423T144021
DTSTART:20240918T073000
DTEND:20240918T083000
SEQUENCE:0
TRANSP:OPAQUE
END:VEVENT
END:VCALENDAR