BEGIN:VCALENDAR
VERSION:2.0
PRODID:-//jEvents 2.0 for Joomla//EN
CALSCALE:GREGORIAN
METHOD:PUBLISH
BEGIN:VEVENT
UID:ce559b91f51efbe6fa0de1cfa1e766f8
CATEGORIES:18. Bezirk
CREATED:20240528T111722
SUMMARY:Babyzeichensprache-Kurs: Musizieren mit Babyzeichen
LOCATION:Spielringel
DESCRIPTION:Infos und Anmeldung unter:\nhttps://www.markusbittner.at/veranstaltungen/an
 meldung-modul-a-block-1-1180/\nWeitere Infos zu meinen Babyzeichensprache-A
 ngeboten:\nwww.babyzeichen-papa.at (https://www.babyzeichen-papa.at)\n \n
X-ALT-DESC;FMTTYPE=text/html:<p>Infos und Anmeldung unter:</p><p><a href="https://www.markusbittner.at/v
 eranstaltungen/anmeldung-modul-a-block-1-1180/">https://www.markusbittner.a
 t/veranstaltungen/anmeldung-modul-a-block-1-1180/</a></p><p>Weitere Infos z
 u meinen Babyzeichensprache-Angeboten:</p><p><a href="https://www.babyzeich
 en-papa.at">www.babyzeichen-papa.at</a></p><p>&nbsp;</p>
CONTACT:Markus Bittner
X-EXTRAINFO:[preis='9500'][anmeldung='true']
DTSTAMP:20260423T115621
DTSTART:20241016T073000
DTEND:20241016T083000
SEQUENCE:0
TRANSP:OPAQUE
END:VEVENT
END:VCALENDAR