BEGIN:VCALENDAR
VERSION:2.0
PRODID:-//jEvents 2.0 for Joomla//EN
CALSCALE:GREGORIAN
METHOD:PUBLISH
BEGIN:VEVENT
UID:b093da89f77febc9c87c0c454ab00758
CATEGORIES:6. Bezirk
CREATED:20240529T080526
SUMMARY:Sommer-Baby-Cafe
LOCATION:6.\, Sandwirtgasse 13/12
DESCRIPTION:☀🧡 Einladung ins Sommer-Baby-Cafe\n \nIst es dir draußen zu heiß? 🥵\nUnd je
 den Tag Schwimmbad ist auch nichts für dich?\nDie Sonne brennt nur so herun
 ter?\nKomm ins angenehm kühle Biolino Institut, genieße einen erfrischen Sa
 ft oder Eistee und plaudere mit anderen Mamas und Papas.\n \nWährenddessen 
 kann dein Kind unsere vorbereitete Spielelandschaft mit hochwertigen Holzsp
 ielsachen erforschen.\nNatürlich gibt es auch den köstlichen Gugelhupf oder
  ich bereite eine Platte mit frischen Obststückchen für deinen Kind und dic
 h vor.\nMontags, zwischen 9.00 – 13030 Uhr\nBitte melde dich für deinen Bes
 uch hier an:\nhttps://shorturl.at/BKMZ6 (https://www.biolino.at/baby-cafe/)
 \n \nEs gibt zwei Kommenszeiten: ab 9.00 und ab 11.00 Uhr.\nIhr könnt so la
 nge bleiben wie ihr wollt.\n \n \nTermine:\nMontag, 15.07.2024\nMontag, 22.
 07.2024\nMontag, 29.07.2024\nMontag, 05.08.2024\nMontag, 12.08.2024\n \nWer
  kommt mich im Baby-Cafe besuchen und genießt die kühle Sommerzeit mit uns?
 \n \nKosten: € 15,- pro Begleitperson\ninkl. Bio-Kaffee (oder Bio-Tee, Bio-
 Kakao, Bio-Saft) und Bio-Gugelhupf (oder Bio-Obst) und Spielebeitrag\nAnmel
 dung HIER: https://www.biolino.at/baby-cafe/ (https://www.biolino.at/baby-c
 afe/)\nBiolino Insitut\nSandwirtgasse 13/12\n1060 Wien\n \n \n
X-ALT-DESC;FMTTYPE=text/html:<p><span style="font-family: 'MS Gothic'; mso-bidi-font-family: 'MS Gothic'
 ;">☀</span>🧡 Einladung ins Sommer-Baby-Cafe</p><p>&nbsp;</p><p class="MsoNo
 rmal">Ist es dir draußen zu heiß? 🥵</p><p class="MsoNormal">Und jeden Tag S
 chwimmbad ist auch nichts für dich?</p><p class="MsoNormal">Die Sonne brenn
 t nur so herunter?</p><p class="MsoNormal">Komm ins angenehm kühle Biolino 
 Institut, genieße einen erfrischen Saft oder Eistee und plaudere mit andere
 n Mamas und Papas.</p><p>&nbsp;</p><p class="MsoNormal">Währenddessen kann 
 dein Kind unsere vorbereitete Spielelandschaft mit hochwertigen Holzspielsa
 chen erforschen.</p><p class="MsoNormal">Natürlich gibt es auch den köstlic
 hen Gugelhupf oder ich bereite eine Platte mit frischen Obststückchen für d
 einen Kind und dich vor.</p><p class="MsoNormal">Montags, zwischen 9.00 – 1
 3030 Uhr</p><p class="MsoNormal">Bitte melde dich für deinen Besuch hier an
 :</p><p class="MsoNormal"><a href="https://www.biolino.at/baby-cafe/">https
 ://shorturl.at/BKMZ6</a></p><p>&nbsp;</p><p class="MsoNormal">Es gibt zwei 
 Kommenszeiten: ab 9.00 und ab 11.00 Uhr.</p><p class="MsoNormal">Ihr könnt 
 so lange bleiben wie ihr wollt.</p><p>&nbsp;</p><p class="MsoNormal">&nbsp;
 </p><p class="MsoNormal">Termine:</p><p class="MsoNormal">Montag, 15.07.202
 4</p><p class="MsoNormal">Montag, 22.07.2024</p><p class="MsoNormal">Montag
 , 29.07.2024</p><p class="MsoNormal">Montag, 05.08.2024</p><p class="MsoNor
 mal">Montag, 12.08.2024</p><p>&nbsp;</p><p class="MsoNormal">Wer kommt mich
  im Baby-Cafe besuchen und genießt die kühle Sommerzeit mit uns?</p><p>&nbs
 p;</p><p style="line-height: 18.2000007629395px; text-align: left;"><span s
 tyle="font-size: 13px;"><strong>Kosten</strong>: <span style="font-size: 13
 px;">€ 15,- pro Begleitperson</span></span></p><p><span style="font-size: 1
 3px;"><span style="font-size: 13px;">inkl. Bio-Kaffee (oder Bio-Tee, Bio-Ka
 kao, Bio-Saft) und Bio-Gugelhupf (oder Bio-Obst) und Spielebeitrag</span></
 span></p><p>Anmeldung HIER: <a href="https://www.biolino.at/baby-cafe/">htt
 ps://www.biolino.at/baby-cafe/</a></p><p>Biolino Insitut</p><p>Sandwirtgass
 e 13/12</p><p>1060 Wien</p><p>&nbsp;</p><p>&nbsp;</p>
CONTACT:martina.novak@biolino.at, 067762892970
X-EXTRAINFO:[preis='1500'][anmeldung='true']
DTSTAMP:20260423T111258
DTSTART:20240722T070000
DTEND:20240722T110000
SEQUENCE:0
TRANSP:OPAQUE
END:VEVENT
END:VCALENDAR