BEGIN:VCALENDAR
VERSION:2.0
PRODID:-//jEvents 2.0 for Joomla//EN
CALSCALE:GREGORIAN
METHOD:PUBLISH
BEGIN:VEVENT
UID:8b9077832450d02ba92b04ecf0da3b57
CATEGORIES:6. Bezirk
CREATED:20240529T090028
SUMMARY:Baby-Atelier (Sitzalter bis 2,5 Jahre)
LOCATION:6.\, Sandwirtgasse 13/12
DESCRIPTION:Baby-AtelierFür Kinder ab dem Sitzalter bis 2,5 Jahre \nGruppe 1: 09.30 - 1
 0.30 Uhr\n Gruppe 2: 11.00 - 12.00 Uhr\nGruppe 3: 14.30 - 15.30 Uhr\nSpielg
 ruppe mit dem Schwerpunkt haptische Sinnesschulung\n- Experimentieren mit F
 arben, Konsistenzen und unterschiedlichsten Materialien\n \nDie kleinen Kün
 stlerinnen und Künstler können im Biolino Baby-Atelier nach Herzenslust mit
  selbst hergestellten Bio-Farben matschen und gatschen, ohne dass Mama oder
  Papa nachher aufräumen müssen. Über das ganze Semester verteilt führen wir
  immer wieder neues Erlebnismaterial in die Gruppe ein.\n \n Klebrig, matsc
 hig, bröselig, kratzig: Sand, Erde, Getreidekörner, Holz und viele andere h
 aptische Anregungen warten auf experimentierfreudige Entdecker*innen. Die K
 inder können nach Herzenslust die Bio-Farben und Materialien mischen und da
 bei mit allen Sinnen erleben, wie sie ihre Eigenschaften verändern.\n \n\n 
 \nEinstieg jederzeit möglich! \nFlexibel mit der Biolino Blockkarte: www.bi
 olino.at/Blockkarte \nweitere Infos unter: Baby-Atelier (https://www.biolin
 o.at/spielgruppen/baby-atelier/)\nwww.biolino.at (http://www.biolino.at) ma
 rtina.novak@biolino.at (mailto:martina.novak@biolino.at) 0677 628 929 70\nS
 andwirtgasse 13/12, 1060 Wien\n \nWir freuen uns auf euch! &lt;3\nMartina u
 nd das Biolino Team\n \n\n \n
X-ALT-DESC;FMTTYPE=text/html:<h1><span lang="DE-AT">Baby-Atelier</span></h1><h2><span lang="DE-AT">Für K
 inder ab dem Sitzalter bis 2,5 Jahre</span></h2><p>&nbsp;</p><p style="marg
 in: 0cm; margin-bottom: .0001pt;"><strong><span lang="DE-AT">Gruppe 1</span
 ></strong><span lang="DE-AT">: 09.30 - 10.30 Uhr<br /> <strong>Gruppe 2</st
 rong>: 11.00 - 12.00 Uhr</span></p><p style="margin: 0cm; margin-bottom: .0
 001pt;"><strong><span lang="DE-AT">Gruppe 3</span></strong><span lang="DE-A
 T">: 14.30 - 15.30 Uhr</span></p><p><strong><span lang="DE-AT">Spielgruppe 
 mit dem Schwerpunkt haptische Sinnesschulung</span></strong></p><p><span la
 ng="DE-AT">- Experimentieren mit Farben, Konsistenzen und unterschiedlichst
 en Materialien</span></p><p>&nbsp;</p><p><span lang="DE-AT">Die kleinen Kün
 stlerinnen und Künstler können im Biolino Baby-Atelier nach Herzenslust mit
  selbst hergestellten Bio-Farben matschen und gatschen, ohne dass Mama oder
  Papa nachher aufräumen müssen. Über das ganze Semester verteilt führen wir
  immer wieder neues Erlebnismaterial in die Gruppe ein.<br /> <br /> Klebri
 g, matschig, bröselig, kratzig: Sand, Erde, Getreidekörner, Holz und viele 
 andere haptische Anregungen warten auf experimentierfreudige Entdecker*inne
 n. Die Kinder können nach Herzenslust die Bio-Farben und Materialien mische
 n und dabei mit allen Sinnen erleben, wie sie ihre Eigenschaften verändern.
 </span></p><p>&nbsp;</p><p style="margin: 0cm; margin-bottom: .0001pt;"><sp
 an lang="DE-AT"></span></p><p>&nbsp;</p><h2 style="margin: 0cm; margin-bott
 om: .0001pt;"><span lang="DE-AT" style="font-size: 12.0pt; color: red;">Ein
 stieg jederzeit möglich!</span></h2><p>&nbsp;</p><h2 style="margin: 0cm; ma
 rgin-bottom: .0001pt;"><span lang="DE-AT">Flexibel mit der Biolino Blockkar
 te: www.biolino.at/Blockkarte</span><span lang="DE-AT" style="font-size: 12
 .0pt;"></span></h2><p>&nbsp;</p><p><span lang="DE-AT">weitere Infos unter: 
 <a href="https://www.biolino.at/spielgruppen/baby-atelier/" title="Baby-Ate
 lier">Baby-Atelier</a></span></p><p><span lang="DE-AT"><a href="http://www.
 biolino.at" title="www.biolion.at">www.biolino.at</a> <a href="mailto:marti
 na.novak@biolino.at">martina.novak@biolino.at</a> <span style="mso-spacerun
 : yes;"></span>0677 628 929 70</span></p><p><span lang="DE-AT">Sandwirtgass
 e 13/12, 1060 Wien</span></p><p>&nbsp;</p><p><span lang="DE-AT">Wir freuen 
 uns auf euch! &lt;3</span></p><p><span lang="DE-AT">Martina und das Biolino
  Team</span></p><p>&nbsp;</p><p class="MsoNormal"><span lang="DE-AT"></span
 ></p><p>&nbsp;</p>
CONTACT:martina.novak@biolino.at, 067762892970
X-EXTRAINFO:[preis='2200'][anmeldung='true']
DTSTAMP:20260423T111321
DTSTART:20240717T090000
DTEND:20240717T100000
SEQUENCE:0
TRANSP:OPAQUE
END:VEVENT
END:VCALENDAR