BEGIN:VCALENDAR
VERSION:2.0
PRODID:-//jEvents 2.0 for Joomla//EN
CALSCALE:GREGORIAN
METHOD:PUBLISH
BEGIN:VEVENT
UID:4af2528ee627aae93b86db9ab95bb235
CATEGORIES:6. Bezirk
CREATED:20240529T090653
SUMMARY:Sinnesspielgruppe (Sitzalter bis 20 Monate)
LOCATION:6.\, Sandwirtgasse 13/12
DESCRIPTION:<h2><span lang="DE-AT">Sinnesspielgruppe</span></h2><p>&nbsp;</p><h3><span 
 lang="DE-AT">Für Kinder von Sitzalter bis 20 Monaten</span></h3><p style="l
 ine-height: 12.7pt;"><em><span lang="DE-AT">Spielgruppe mit dem Schwerpunkt
  Sinneserlebnisse</span></em><span lang="DE-AT"> </span></p><p>&nbsp;</p><p
  style="line-height: 12.7pt;"><span lang="DE-AT">Dein Kind&nbsp;will mit al
 len Sinnen die Welt entdecken. Wo geht das besser als in den Biolino&nbsp;S
 innesspielgruppen mit unserer Spielgruppenleiterin Martina. </span></p><p><
 span class="5yl5"><span lang="DE-AT">Die </span></span><strong><span lang="
 DE-AT">Sinnesspielgruppe</span></strong><span class="5yl5"><span lang="DE-A
 T"> eignet sich für Eltern mit ihren Babys im Krabbel- und Laufanfängeralte
 r </span></span><strong><span lang="DE-AT">(Sitzalter - 20 Monate).</span><
 /strong><span lang="DE-AT"> <br /></span></p><p><span class="5yl5"><span la
 ng="DE-AT">Wir spielen, erfahren, forschen, spüren, gebärden, singen, reime
 n und begegnen uns. Den Fokus legen wir dabei Sinnes- und Wahrnehmungserfah
 rungen für Eltern und Babys. Die Kleinen üben ihre Nah- und Fernsinne (nebe
 n Sehen, Hören, Riechen, Schmecken spielen vor allem Hautsinn, Gleichgewich
 tssinn und Körperwahrnehmung eine wichtige Rolle) durch unterschiedliche Sp
 ielangebote und die Eltern spielen mit, schauen hin, beobachten, staunen un
 d tauschen sich aus. Jede Einheit steht unter einem bestimmten Motto und wi
 rd durch geeignetes Spiel- und Erfahrungsmaterial unterstützt.</span></span
 ><span lang="DE-AT"> </span></p><p>&nbsp;</p><p><span lang="DE-AT"></span><
 /p><h3 style="margin: 0cm; margin-bottom: .0001pt;"><span lang="DE-AT">Term
 ine im Sommerspaß-Programm 2024</span></h3><p class="MsoNormal"><span lang=
 "DE-AT" style="mso-ansi-language: DE-AT; mso-fareast-language: DE-AT;">16.0
 7.24 <span style="mso-spacerun: yes;"></span>Fahrzeugspaß</span></p><p clas
 s="MsoNormal"><span lang="DE-AT" style="mso-ansi-language: DE-AT; mso-farea
 st-language: DE-AT;">23.07.24 Wasserspaß</span></p><p class="MsoNormal"><sp
 an lang="DE-AT" style="mso-ansi-language: DE-AT; mso-fareast-language: DE-A
 T;">30.07.24 Blütenzauber - Sommeredition</span></p><p class="MsoNormal"><s
 pan lang="DE-AT" style="mso-ansi-language: DE-AT; mso-fareast-language: DE-
 AT;">06.08.24 Sommersensorik Vol. 2</span></p><p class="MsoNormal"><span la
 ng="DE-AT" style="mso-ansi-language: DE-AT; mso-fareast-language: DE-AT;">1
 3.08.24 Zitrusgenuss</span></p><p>Alle genauen Infos dazu findest du hier:<
 /p><p><a href="https://www.biolino.at/spielgruppen/sinnesspielgruppe/">http
 s://www.biolino.at/spielgruppen/sinnesspielgruppe/</a></p><p>&nbsp;</p><p><
 span lang="DE-AT"><a href="mailto:martina.novak@biolino.at,">martina.novak@
 biolino.at,</a> 0677 628 929 70</span></p><p><span lang="DE-AT">Sandwirtgas
 se 13/12, 1060 Wien</span></p><p>&nbsp;</p><p><span lang="DE-AT"></span></p
 ><p><span lang="DE-AT">Ich freue mich auf euch! &lt;3</span></p><p><span la
 ng="DE-AT">Martina</span></p><p>&nbsp;</p>
CONTACT:martina.novak@biolino.at, 067762892970
X-EXTRAINFO:[preis='2200'][anmeldung='true']
DTSTAMP:20260423T184502
DTSTART:20240730T090000
DTEND:20240730T100000
SEQUENCE:0
TRANSP:OPAQUE
END:VEVENT
END:VCALENDAR