BEGIN:VCALENDAR
VERSION:2.0
PRODID:-//jEvents 2.0 for Joomla//EN
CALSCALE:GREGORIAN
METHOD:PUBLISH
BEGIN:VEVENT
UID:7d6cb0efa86b6ea08b0817e3fb1474c9
CATEGORIES:2. Bezirk
CREATED:20240529T141239
SUMMARY:Eltern-Kind-Spielgruppe 06-12 Monate SOMMER
LOCATION:Eltern-Kind-Zentrum Kind&amp;Kegel\, Praterstraße 14/8\, 1020 Wien
DESCRIPTION:Eltern-Kind-Spielgruppen Für Kinder ab 6 Monaten mit einer BegleitpersonFin
 ger-, Schoß- und Kreisspiele  in einer Gruppe von Gleichaltrigen machen gle
 ich doppelt so viel Spaß. Eine vorbereitete Umgebung lädt zum Entdecken ein
  und für den Austausch unter den Eltern/Begleitpersonen ist auch genügend Z
 eit!\nTermine: Mo, 09:30-11:30, 1.7., 8.7., 22.7., 29.7., 5.8., 12.8., 19.8
 ., 26.8.24\nSommerspielgruppen können auch einzeln gebucht werden!\nAnmeldu
 ng notwendig (per mail, telefonisch oder persönlich).\nKosten: 8 Einheiten 
 € 123.-, 5 Einheiten € 77.-, Einzeleinheit € 16.-\n \n
X-ALT-DESC;FMTTYPE=text/html:<h2 style="color: #78c752;"><span style="font-size: 146%;">E</span>ltern-Ki
 nd-Spielgruppen&nbsp;</h2><h3>Für Kinder ab 6 Monaten mit einer Begleitpers
 on</h3><p>Finger-, Schoß- und Kreisspiele&nbsp; in einer Gruppe von Gleicha
 ltrigen machen gleich doppelt so viel Spaß. Eine vorbereitete Umgebung lädt
  zum Entdecken ein und für den Austausch unter den Eltern/Begleitpersonen i
 st auch genügend Zeit!</p><p>Termine: Mo, 09:30-11:30, 1.7., 8.7., 22.7., 2
 9.7., 5.8., 12.8., 19.8., 26.8.24</p><p>Sommerspielgruppen können auch einz
 eln gebucht werden!</p><p>Anmeldung notwendig (per mail, telefonisch oder p
 ersönlich).</p><p>Kosten: 8 Einheiten € 123.-, 5 Einheiten € 77.-, Einzelei
 nheit € 16.-</p><p>&nbsp;</p>
CONTACT:info@kind-und-kegel.at, 01 503 71 88
X-EXTRAINFO:[preis='1600'][anmeldung='true']
DTSTAMP:20260423T233934
DTSTART:20240819T073000
DTEND:20240819T090000
SEQUENCE:0
TRANSP:OPAQUE
END:VEVENT
END:VCALENDAR