BEGIN:VCALENDAR
VERSION:2.0
PRODID:-//jEvents 2.0 for Joomla//EN
CALSCALE:GREGORIAN
METHOD:PUBLISH
BEGIN:VEVENT
UID:c3741fab6b8dbde045204125950822c3
CATEGORIES:2. Bezirk
CREATED:20240529T142803
SUMMARY:Eltern-Kind-Spielgruppe 1-2 Jahre SOMMER
LOCATION:Eltern-Kind-Zentrum Kind&amp;Kegel\, Praterstraße 14/8\, 1020 Wien
DESCRIPTION:Eltern-Kind-Spielgruppen Für Kinder von 1-2 Jahren mit einer BegleitpersonF
 inger-, Schoß- und Kreisspiele  in einer Gruppe von Gleichaltrigen machen g
 leich doppelt so viel Spaß. Eine vorbereitete Umgebung lädt zum Entdecken e
 in und für den Austausch unter den Eltern/Begleitpersonen ist auch genügend
  Zeit!\nTermine:\nDi 9:30-11h: 2.7., 9.7., 23.7.24\nMi 9:30-11h: 31.7.., 7.
 8., 14.8., 21.8., 28.8.,\nSommerspielgruppen können auch einzeln gebucht we
 rden!\nAnmeldung notwendig (per mail, telefonisch oder persönlich).\nKosten
 : 8 Einheiten € 123.-, 5 Einheiten € 77.-, Einzeleinheit € 16.-\n \n
X-ALT-DESC;FMTTYPE=text/html:<h2 style="color: #78c752;"><span style="font-size: 146%;">E</span>ltern-Ki
 nd-Spielgruppen&nbsp;</h2><h3>Für Kinder von 1-2 Jahren mit einer Begleitpe
 rson</h3><p>Finger-, Schoß- und Kreisspiele&nbsp; in einer Gruppe von Gleic
 haltrigen machen gleich doppelt so viel Spaß. Eine vorbereitete Umgebung lä
 dt zum Entdecken ein und für den Austausch unter den Eltern/Begleitpersonen
  ist auch genügend Zeit!</p><p>Termine:</p><p>Di 9:30-11h: 2.7., 9.7., 23.7
 .24</p><p>Mi 9:30-11h: 31.7.., 7.8., 14.8., 21.8., 28.8.,</p><p>Sommerspiel
 gruppen können auch einzeln gebucht werden!</p><p>Anmeldung notwendig (per 
 mail, telefonisch oder persönlich).</p><p>Kosten: 8 Einheiten € 123.-, 5 Ei
 nheiten € 77.-, Einzeleinheit € 16.-</p><p>&nbsp;</p>
CONTACT:info@kind-und-kegel.at, 01 503 71 88
X-EXTRAINFO:[preis='1600'][anmeldung='true']
DTSTAMP:20260423T233935
DTSTART:20240731T073000
DTEND:20240731T090000
SEQUENCE:0
TRANSP:OPAQUE
END:VEVENT
END:VCALENDAR