BEGIN:VCALENDAR
VERSION:2.0
PRODID:-//jEvents 2.0 for Joomla//EN
CALSCALE:GREGORIAN
METHOD:PUBLISH
BEGIN:VEVENT
UID:858a12e7507a0e215eeca63548e96055
CATEGORIES:2. Bezirk
CREATED:20240529T151005
SUMMARY:Musikgruppe 6-12 Monate SOMMER
LOCATION:Eltern-Kind-Zentrum Kind&amp;Kegel\, Praterstraße 14/8\, 1020 Wien
DESCRIPTION:<h2 style="color: #78c752;"><span style="font-size: 146%;">M</span>usikgrup
 pen&nbsp;Sommer</h2><h3>für Kinder von 6 Monaten bis 4 Jahre und eine Begle
 itperson</h3><p>Musikalische Frühförderung lässt Kinder erleben, wie viel F
 reude im gemeinsamen Musizieren, Singen und Tanzen liegt. Nach neuesten erz
 iehungs-, musik- und sprachwissenschaftlichen Erkenntnissen werden die natü
 rlichen musikalischen Fähigkeiten der Kinder ohne Leistungsdruck zur Entfal
 tung gebracht.</p><p>Eine ausgewogene Mischung aus Singen und Sprechen, Bew
 egung und Instrumentalspiel sorgt für Abwechslung. Der wachsenden Selbständ
 igkeit der Kinder wird mit vermehrten interaktiven Spielen und Freiraum für
  eigene Gestaltungsideen Rechnung getragen. Keine Vorkenntnisse erforderlic
 h!</p><table><tbody><tr><td><p><strong><span class="fett">6-12 Monate:</spa
 n><br /> Dienstag, 09<span class="kleinhoch">30</span> - 10</strong><span c
 lass="kleinhoch"><strong>20</strong><br /></span></p><p>&nbsp;</p></td><td>
 <p><span class="fett">1-2 Jahre:</span><br /> Dienstag, 10<span class="klei
 nhoch">40</span> - 11<span class="kleinhoch">30<br /> </span></p><p>&nbsp;<
 /p><p><span class="fett"></span></p></td><td><span class="fett">2-3 Jahre:<
 /span><br /> Montag, 15<span class="kleinhoch">30</span> - 16<span class="k
 leinhoch">20</span></td></tr><tr><td><p><span class="fett">3-4 Jahre:</span
 ><br /> Dienstag, 15<span class="kleinhoch">30</span> - 16<span class="klei
 nhoch">20</span><br /><br /></p><p>&nbsp;</p><p>&nbsp;</p><br /><p>&nbsp;</
 p><p>Montag Termine: 29.7., 5.8., 12.8., 19.8., 26.8.24</p><p>Dienstag Term
 ine: 30.7., 6.8., 13.8., 20.8., 27.8.24</p><p>&nbsp;</p><p><span class="fet
 t">Kosten: 5 Einheiten</span> € 75,-<br />3 EH 46.-, 1 EH € 16.-<br /> Anme
 ldung erforderlich!</p></td><td><p><span class="fett">4-5 Jahre:</span><br 
 /> Dienstag, 16<span class="kleinhoch">40</span> - 17<span class="kleinhoch
 ">30</span><br /><br /></p><p><span class="fett"></span></p></td><td><p><sp
 an class="kleinhoch">5-6 Jahre:<br /> </span>Montag, 16:40-17:30</p><p><spa
 n class="fett"></span></p></td></tr></tbody></table><p>Wir weisen darauf hi
 n, dass es nicht möglich ist, Geschwisterkinder in die Gruppe mitzunehmen (
 Babies bis 6 Monate können <b>nach Absprache</b> mitgenommen werden|max. 2 
 Babies pro Gruppe). Geschwisterkinder, die in die betreffende Altersgruppe 
 passen, müssen mit einer zusätzlichen Bezugsperson als voller Platz angemel
 det werden. Wir bitten um Verständnis.</p><p>&nbsp;</p>
CONTACT:info@kind-und-kegel.at, 01 503 71 88
X-EXTRAINFO:[preis='1600'][anmeldung='true']
DTSTAMP:20260423T234316
DTSTART:20240820T073000
DTEND:20240820T082000
SEQUENCE:0
TRANSP:OPAQUE
END:VEVENT
END:VCALENDAR