BEGIN:VCALENDAR
VERSION:2.0
PRODID:-//jEvents 2.0 for Joomla//EN
CALSCALE:GREGORIAN
METHOD:PUBLISH
BEGIN:VEVENT
UID:362a86ff20b743e14eaaecfa4ee44d0f
CATEGORIES:2. Bezirk
CREATED:20240529T151527
SUMMARY:Musikgruppe 3-4 Jahre SOMMER
LOCATION:Eltern-Kind-Zentrum Kind&amp;Kegel\, Praterstraße 14/8\, 1020 Wien
DESCRIPTION:Musikgruppen Sommerfür Kinder von 6 Monaten bis 6 Jahre und eine Begleitper
 sonMusikalische Frühförderung lässt Kinder erleben, wie viel Freude im geme
 insamen Musizieren, Singen und Tanzen liegt. Nach neuesten erziehungs-, mus
 ik- und sprachwissenschaftlichen Erkenntnissen werden die natürlichen musik
 alischen Fähigkeiten der Kinder ohne Leistungsdruck zur Entfaltung gebracht
 .\nEine ausgewogene Mischung aus Singen und Sprechen, Bewegung und Instrume
 ntalspiel sorgt für Abwechslung. Der wachsenden Selbständigkeit der Kinder 
 wird mit vermehrten interaktiven Spielen und Freiraum für eigene Gestaltung
 sideen Rechnung getragen. Keine Vorkenntnisse erforderlich!\n6-12 Monate:\n
  Dienstag, 0930 - 1020\n\n \n1-2 Jahre:\n Dienstag, 1040 - 1130\n \n \n\n2-
 3 Jahre:\n Montag, 1530 - 16203-4 Jahre:\n Dienstag, 1530 - 1620\n\n\n \n \
 n\n \nMontag Termine: 29.7., 5.8., 12.8., 19.8., 26.8.24\nDienstag Termine:
  30.7., 6.8., 13.8., 20.8., 27.8.24\n \nKosten: 5 Einheiten € 75,-\n3 EH 46
 .-, 1 EH € 16.-\n Anmeldung erforderlich!\n4-5 Jahre:\n Dienstag, 1640 - 17
 30\n\n\n\n5-6 Jahre:\n Montag, 16:40-17:30\n\nWir weisen darauf hin, dass e
 s nicht möglich ist, Geschwisterkinder in die Gruppe mitzunehmen (Babies bi
 s 6 Monate können nach Absprache mitgenommen werden|max. 2 Babies pro Grupp
 e). Geschwisterkinder, die in die betreffende Altersgruppe passen, müssen m
 it einer zusätzlichen Bezugsperson als voller Platz angemeldet werden. Wir 
 bitten um Verständnis.\n \n
X-ALT-DESC;FMTTYPE=text/html:<h2 style="color: #78c752;"><span style="font-size: 146%;">M</span>usikgrup
 pen&nbsp;Sommer</h2><h3>für Kinder von 6 Monaten bis 6 Jahre und eine Begle
 itperson</h3><p>Musikalische Frühförderung lässt Kinder erleben, wie viel F
 reude im gemeinsamen Musizieren, Singen und Tanzen liegt. Nach neuesten erz
 iehungs-, musik- und sprachwissenschaftlichen Erkenntnissen werden die natü
 rlichen musikalischen Fähigkeiten der Kinder ohne Leistungsdruck zur Entfal
 tung gebracht.</p><p>Eine ausgewogene Mischung aus Singen und Sprechen, Bew
 egung und Instrumentalspiel sorgt für Abwechslung. Der wachsenden Selbständ
 igkeit der Kinder wird mit vermehrten interaktiven Spielen und Freiraum für
  eigene Gestaltungsideen Rechnung getragen. Keine Vorkenntnisse erforderlic
 h!</p><table><tbody><tr><td><p><span class="fett">6-12 Monate:</span><br />
  Dienstag, 09<span class="kleinhoch">30</span> - 10<span class="kleinhoch">
 20<br /></span></p><p>&nbsp;</p></td><td><p><span class="fett">1-2 Jahre:</
 span><br /> Dienstag, 10<span class="kleinhoch">40</span> - 11<span class="
 kleinhoch">30<br /> </span></p><p>&nbsp;</p><p><span class="fett"></span></
 p></td><td><span class="fett">2-3 Jahre:</span><br /> Montag, 15<span class
 ="kleinhoch">30</span> - 16<span class="kleinhoch">20</span></td></tr><tr><
 td><p><strong><span class="fett">3-4 Jahre:</span><br /> Dienstag, 15<span 
 class="kleinhoch">30</span> - 16<span class="kleinhoch">20</span></strong><
 br /><br /></p><p>&nbsp;</p><p>&nbsp;</p><br /><p>&nbsp;</p><p>Montag Termi
 ne: 29.7., 5.8., 12.8., 19.8., 26.8.24</p><p>Dienstag Termine: 30.7., 6.8.,
  13.8., 20.8., 27.8.24</p><p>&nbsp;</p><p><span class="fett">Kosten: 5 Einh
 eiten</span> € 75,-<br />3 EH 46.-, 1 EH € 16.-<br /> Anmeldung erforderlic
 h!</p></td><td><p><span class="fett">4-5 Jahre:</span><br /> Dienstag, 16<s
 pan class="kleinhoch">40</span> - 17<span class="kleinhoch">30</span><br />
 <br /></p><p><span class="fett"></span></p></td><td><p><span class="kleinho
 ch">5-6 Jahre:<br /> </span>Montag, 16:40-17:30</p><p><span class="fett"></
 span></p></td></tr></tbody></table><p>Wir weisen darauf hin, dass es nicht 
 möglich ist, Geschwisterkinder in die Gruppe mitzunehmen (Babies bis 6 Mona
 te können <b>nach Absprache</b> mitgenommen werden|max. 2 Babies pro Gruppe
 ). Geschwisterkinder, die in die betreffende Altersgruppe passen, müssen mi
 t einer zusätzlichen Bezugsperson als voller Platz angemeldet werden. Wir b
 itten um Verständnis.</p><p>&nbsp;</p>
CONTACT:info@kind-und-kegel.at, 01 503 71 88
X-EXTRAINFO:[preis='1600'][anmeldung='true']
DTSTAMP:20260423T233935
DTSTART:20240813T133000
DTEND:20240813T142000
SEQUENCE:0
TRANSP:OPAQUE
END:VEVENT
END:VCALENDAR