BEGIN:VCALENDAR
VERSION:2.0
PRODID:-//jEvents 2.0 for Joomla//EN
CALSCALE:GREGORIAN
METHOD:PUBLISH
BEGIN:VEVENT
UID:84eac72d2a4c4e44fe09130c44d1089c
CATEGORIES:2. Bezirk
CREATED:20240529T154640
SUMMARY:Wissenschaftsstunde 4-7Jahre
LOCATION:Eltern-Kind-Zentrum Kind&amp;Kegel\, Praterstraße 14/8\, 1020 Wien
DESCRIPTION:Wissenschaftsstunde \nFür Kinder von 4 bis 7 Jahren \nKinder sind von Natur
  aus neugierig. In den Wissenschaftsstunden behandeln wir einfache Konzepte
  aus dem Bereich der Chemiewissenschaften, und visualisieren diese in einfa
 chen Experimenten.\nTermine: Mittwoch, \n 31.7., 14.08.24 jeweils von 16:00
  - 17:15 \n Kosten:  1 Einheit € 20,-, 2 EH € 35.-\n Anmeldung erforderlich
 !\n \n
X-ALT-DESC;FMTTYPE=text/html:<h2>Wissenschaftsstunde</h2><p>&nbsp;</p><h3>Für Kinder von 4 bis 7 Jahren<
 /h3><p>&nbsp;</p><p>Kinder sind von Natur aus neugierig. In den Wissenschaf
 tsstunden behandeln wir einfache Konzepte aus dem Bereich der Chemiewissens
 chaften, und visualisieren diese in einfachen Experimenten.</p><p><span cla
 ss="fett">Termine:</span> Mittwoch, <br /> 31.7., 14.08.24 jeweils von 16<s
 pan class="kleinhoch">:00</span> - 17<span class="kleinhoch">:15</span> <br
  /> <span class="fett">Kosten: </span> 1 Einheit € 20,-, 2 EH € 35.-<br /> 
 Anmeldung erforderlich!</p><p>&nbsp;</p>
CONTACT:info@kind-und-kegel.at, 01 503 71 88
X-EXTRAINFO:[preis='2000'][anmeldung='true']
DTSTAMP:20260423T233934
DTSTART:20240814T140000
DTEND:20240814T151500
SEQUENCE:0
TRANSP:OPAQUE
END:VEVENT
END:VCALENDAR