BEGIN:VCALENDAR
VERSION:2.0
PRODID:-//jEvents 2.0 for Joomla//EN
CALSCALE:GREGORIAN
METHOD:PUBLISH
BEGIN:VEVENT
UID:a403d394fbd4c2679027c0f323e2e1f9
CATEGORIES:19. Bezirk
CREATED:20240610T133744
SUMMARY:Freispiel mit "loose parts"
LOCATION:Raum Ida im Q19
DESCRIPTION:Freispiel mit "loose parts"für Kinder von 1,5 bis 4,5 Jahren Start:  28.06.
 2024\nMit: Claudia B. (https://spielringel.at/angebote/das-team/claudia-bie
 der)\nKurstag:  Freitag 14:00-15:00 im Raum Ida, Q19\nTermine:  28.06., 05.
 07., 12.07., 19.07., 26.07.\nKosten:  €85,- (5-Wochen Kurs)\nSpielzeugfrei 
 die Welt entdecken\n"loose parts play" bezeichnet die Beschäftigung mit los
 en Teilen und Materialien aus dem Alltag sowie der Natur. Dabei ergeben sic
 h wundervoll kreative und oft ungeahnte Möglichkeiten, die Welt zu entdecke
 n. Im Gegensatz zu definiertem Spielzeug sind sie nämlich nicht auf eine ei
 nzige Funktion festgelegt, sondern lassen den Kindern Raum für kreative Exp
 erimente und die Entwicklung eigener Ideen.\n" Kinder brauchen kein Spielze
 ug, sie brauchen Zeug zum Spielen.“\nIn dieser Spielgruppe dürfen die Kinde
 r zu wöchentlich wechselnden Themenbereichen verschiedenste „loose parts“ e
 ntdecken und erforschen.\nSchnuppern und späterer Einstieg möglich!\n  \n
X-ALT-DESC;FMTTYPE=text/html:<div class="frame frame-default frame-type-textpic frame-layout-0 frame-bac
 kground-none frame-no-backgroundimage frame-space-before-none frame-space-a
 fter-none"><header class="frame-header"><h2 class="element-header">Freispie
 l mit "loose parts"</h2><h4>für Kinder von 1,5 bis 4,5 Jahren</h4></header>
 <div class="frame-container"><div class="frame-inner"><div class="textpic t
 extpic-right"><div class="textpic-item textpic-gallery"><div class="gallery
 -row"><div class="gallery-item gallery-item-size-1">&nbsp;</div></div></div
 ><div class="textpic-item textpic-text"><p><span class="text-primary font-w
 eight-bold">Start: </span> 28.06.2024</p><p><span class="text-primary font-
 weight-bold">Mit: </span><a href="https://spielringel.at/angebote/das-team/
 claudia-bieder">Claudia B.</a></p><p><span class="text-primary font-weight-
 bold">Kurstag: </span> Freitag 14:00-15:00 im Raum Ida, Q19</p><p><span cla
 ss="text-primary font-weight-bold">Termine: </span> 28.06., 05.07., 12.07.,
  19.07., 26.07.</p><p><span class="text-primary font-weight-bold">Kosten: <
 /span> €85,- (5-Wochen Kurs)</p><p><strong>Spielzeugfrei die Welt entdecken
 </strong></p><p>"loose parts play" bezeichnet die Beschäftigung mit losen T
 eilen und Materialien aus dem Alltag sowie der Natur. Dabei ergeben sich wu
 ndervoll kreative und oft ungeahnte Möglichkeiten, die Welt zu entdecken. I
 m Gegensatz zu definiertem Spielzeug sind sie nämlich nicht auf eine einzig
 e Funktion festgelegt, sondern lassen den Kindern Raum für kreative Experim
 ente und die Entwicklung eigener Ideen.</p><p><strong><em>" Kinder brauchen
  kein Spielzeug, sie brauchen Zeug zum Spielen.“</em></strong></p><p>In die
 ser Spielgruppe dürfen die Kinder zu wöchentlich wechselnden Themenbereiche
 n verschiedenste „loose parts“ entdecken und erforschen.</p><p>Schnuppern u
 nd späterer Einstieg möglich!</p></div></div></div></div></div><div id="c11
 62" class="frame frame-default frame-type-form_formframework frame-layout-0
  frame-background-none frame-no-backgroundimage frame-space-before-none fra
 me-space-after-none"><div class="frame-container"><div class="frame-inner">
 <div class="form-container form-identifier-anmeldeformular-1162"><form enct
 ype="multipart/form-data" method="post" novalidate="novalidate" id="anmelde
 formular-1162"><div>&nbsp;</div><input autocomplete="pdNB2Oom3jLZf84hCPX9" 
 name="tx_form_formframework[anmeldeformular-1162][pdNB2Oom3jLZf84hCPX9]" ty
 pe="text" id="anmeldeformular-1162-pdNB2Oom3jLZf84hCPX9" style="position: a
 bsolute; margin: 0 0 0 -999em;" tabindex="-1" aria-hidden="true" /><div cla
 ss="form-actions"><nav class="form-navigation"><div class="btn-toolbar" rol
 e="toolbar"><div class="btn-group" role="group"><span class="btn-group next
 "></span></div></div></nav></div></form></div></div></div></div><p>&nbsp;</
 p>
CONTACT:www.spielringel.at
X-EXTRAINFO:[preis='8500'][anmeldung='true']
DTSTAMP:20260423T160922
DTSTART:20240705T120000
DTEND:20240705T130000
SEQUENCE:0
TRANSP:OPAQUE
END:VEVENT
END:VCALENDAR