BEGIN:VCALENDAR
VERSION:2.0
PRODID:-//jEvents 2.0 for Joomla//EN
CALSCALE:GREGORIAN
METHOD:PUBLISH
BEGIN:VEVENT
UID:e04dea181941372a8bd32b518a6e3875
CATEGORIES:6. Bezirk
CREATED:19700101T010000
SUMMARY:Zeichne deine Comicfigur für Kinder (6-10 Jahre)
LOCATION:VHS Mariahilf\, Damböckgasse 4\, 1060 Wien
DESCRIPTION:<p><strong>Zeichne deine Comicfigur für Kinder (6-10 Jahre)&nbsp;</strong><
 /p><p>Kursleiter: Raphael Korb</p><p>Was macht eine gelungene Comicfigur au
 s? Gemeinsam bannen wir eure Storys und Wunschfiguren auf Papier – mit alle
 m, was eure Fantasie hergibt!</p><p>Mittwoch 2x, 31. Juli - 07. August 2024
 , 16-17 Uhr</p><p>Kursgebühr: € 15,-</p><p>Anmeldung unter:&nbsp;<a href="h
 ttps://www.vhs.at/de/k/279683707">https://www.vhs.at/de/k/279683707</a></p>
 <p>&nbsp;</p>
CONTACT:mariahilf@vhs.at
X-EXTRAINFO:[preis='1500'][anmeldung='true']
DTSTAMP:20260423T162907
DTSTART:20240731T140000
DTEND:20240731T150000
SEQUENCE:0
TRANSP:OPAQUE
END:VEVENT
END:VCALENDAR