BEGIN:VCALENDAR
VERSION:2.0
PRODID:-//jEvents 2.0 for Joomla//EN
CALSCALE:GREGORIAN
METHOD:PUBLISH
BEGIN:VEVENT
UID:e04dea181941372a8bd32b518a6e3875
CATEGORIES:6. Bezirk
CREATED:20240620T124229
SUMMARY:Zeichne deine Comicfigur für Kinder (6-10 Jahre)
LOCATION:VHS Mariahilf\, Damböckgasse 4\, 1060 Wien
DESCRIPTION:Zeichne deine Comicfigur für Kinder (6-10 Jahre) \nKursleiter: Raphael Korb
 \nWas macht eine gelungene Comicfigur aus? Gemeinsam bannen wir eure Storys
  und Wunschfiguren auf Papier – mit allem, was eure Fantasie hergibt!\nMitt
 woch 2x, 31. Juli - 07. August 2024, 16-17 Uhr\nKursgebühr: € 15,-\nAnmeldu
 ng unter: https://www.vhs.at/de/k/279683707 (https://www.vhs.at/de/k/279683
 707)\n \n
X-ALT-DESC;FMTTYPE=text/html:<p><strong>Zeichne deine Comicfigur für Kinder (6-10 Jahre)&nbsp;</strong><
 /p><p>Kursleiter: Raphael Korb</p><p>Was macht eine gelungene Comicfigur au
 s? Gemeinsam bannen wir eure Storys und Wunschfiguren auf Papier – mit alle
 m, was eure Fantasie hergibt!</p><p>Mittwoch 2x, 31. Juli - 07. August 2024
 , 16-17 Uhr</p><p>Kursgebühr: € 15,-</p><p>Anmeldung unter:&nbsp;<a href="h
 ttps://www.vhs.at/de/k/279683707">https://www.vhs.at/de/k/279683707</a></p>
 <p>&nbsp;</p>
CONTACT:mariahilf@vhs.at
X-EXTRAINFO:[preis='1500'][anmeldung='true']
DTSTAMP:20260423T144023
DTSTART:20240807T140000
DTEND:20240807T150000
SEQUENCE:0
TRANSP:OPAQUE
END:VEVENT
END:VCALENDAR