BEGIN:VCALENDAR
VERSION:2.0
PRODID:-//jEvents 2.0 for Joomla//EN
CALSCALE:GREGORIAN
METHOD:PUBLISH
BEGIN:VEVENT
UID:9e672703cbe0837fd8cc9b8ec2215014
CATEGORIES:7. Bezirk
CREATED:20240620T124849
SUMMARY:Parkour & Freerunning für Kinder (6-9 Jahre)
LOCATION:Andreaspark
DESCRIPTION:Parkour &amp; Freerunning für Kinder (6-9 Jahre)\nKurs im Freien im Andreas
 park\nKursleiterin: Elisabeth Kettmann\nDieser Kurs soll Kinder in die span
 nende Welt von Parkour und Freerunning einführen. \nDabei werden ihre körpe
 rlichen Fähigkeiten wie Kraft, Gleichgewicht, Koordination und Beweglichkei
 t durch eine Vielzahl von Übungen entwickelt und trainiert. Sie lernen auch
  die Grundsätze der sicheren Bewegung, der Verletzungsprävention und der ri
 chtigen Landetechniken kennen.\nMo-Do 4x, 19. August - 22. August 2024, 9-1
 0:30 Uhr\nKursgebühr: € 49,-\nAnmeldung unter: https://www.vhs.at/de/k/2796
 84567 (https://www.vhs.at/de/k/279684567)\n \n
X-ALT-DESC;FMTTYPE=text/html:<p><strong>Parkour &amp; Freerunning für Kinder (6-9 Jahre)</strong></p><p>
 Kurs im Freien im Andreaspark</p><p>Kursleiterin: Elisabeth Kettmann</p><p>
 Dieser Kurs soll Kinder in die spannende Welt von Parkour und Freerunning e
 inführen.&nbsp;</p><p>Dabei werden ihre körperlichen Fähigkeiten wie Kraft,
  Gleichgewicht, Koordination und Beweglichkeit durch eine Vielzahl von Übun
 gen entwickelt und trainiert. Sie lernen auch die Grundsätze der sicheren B
 ewegung, der Verletzungsprävention und der richtigen Landetechniken kennen.
 </p><p>Mo-Do 4x, 19. August - 22. August 2024, 9-10:30 Uhr</p><p>Kursgebühr
 : € 49,-</p><p>Anmeldung unter:&nbsp;<a href="https://www.vhs.at/de/k/27968
 4567">https://www.vhs.at/de/k/279684567</a></p><p>&nbsp;</p>
CONTACT:mariahilf@vhs.at
X-EXTRAINFO:[preis='4900'][anmeldung='true']
DTSTAMP:20260423T110408
DTSTART:20240820T070000
DTEND:20240820T083000
SEQUENCE:0
TRANSP:OPAQUE
END:VEVENT
END:VCALENDAR