BEGIN:VCALENDAR
VERSION:2.0
PRODID:-//jEvents 2.0 for Joomla//EN
CALSCALE:GREGORIAN
METHOD:PUBLISH
BEGIN:VEVENT
UID:da7ac0752223a828b69946d5e0288f30
CATEGORIES:23. Bezirk
CREATED:20240624T132540
SUMMARY:Babyturnen (9-18 Monate)
LOCATION:VHS Erlaa\, Puztzendoplergasse 4\, 1230 Wien
DESCRIPTION:<p>Ziel des Babyturnens ist es, die Babys mit einfachen, spielerischen Übun
 gen in ihrer Bewegungsentwicklung zu fördern. Gleichzeitig werden die Sinne
  geschärft und die Körperwahrnehmung positiv beeinflusst. Vor allem aber so
 llen Kinder und Eltern Spaß an der gemeinsamen Bewegung haben.</p><p>Kursko
 sten: 49 Euro.</p><p>Anmeldung und nährere Information unter&nbsp;https://w
 ww.vhs.at/de/k/285682582&nbsp;oder&nbsp;<a href="mailto:erlaa@vhs.at">erlaa
 @vhs.at</a>&nbsp;/ 01 89 174 123 302</p>
CONTACT:01 89 174 123 302 oder erlaa@vhs.at
X-EXTRAINFO:[preis='4900'][anmeldung='true']
DTSTAMP:20260423T111606
DTSTART:20240930T080000
DTEND:20240930T090000
SEQUENCE:0
TRANSP:OPAQUE
END:VEVENT
END:VCALENDAR