BEGIN:VCALENDAR
VERSION:2.0
PRODID:-//jEvents 2.0 for Joomla//EN
CALSCALE:GREGORIAN
METHOD:PUBLISH
BEGIN:VEVENT
UID:7bad1a21bc095c3ff2fbf5a67a0c5d40
CATEGORIES:23. Bezirk
CREATED:20240624T140205
SUMMARY:Elementares Musizieren (1,5-3 Jahre)
LOCATION:VHS Erlaa\, Puztzendoplergasse 4\, 1230 Wien
DESCRIPTION:<p>Nach dem Kurs ist die Freude an der Musik von Eltern und Kindern geweckt
 . Ihr Kind hat musikalisches Neuland erforscht und kreative Zugänge zur Mus
 ik und zur Welt entdeckt, seine Sprachkompetenzen wurden gefördert. Sie sel
 bst haben Ihre eigenen musikalischen Fähigkeiten (wieder-)entdeckt und entf
 altet. Sie können die neuen Impulse und Anregungen für das gemeinsame Musik
 erleben zu Hause nützen.</p><p>Anmeldung und Information unter&nbsp;<a href
 ="https://www.vhs.at/de/k/285682868">https://www.vhs.at/de/k/285682868</a>&
 nbsp;oder&nbsp;<a href="mailto:erlaa@vhs.at">erlaa@vhs.at</a>&nbsp;/ 01 89 
 174 123 302</p>
X-EXTRAINFO:[preis='5000'][anmeldung='true']
DTSTAMP:20260423T111633
DTSTART:20241113T150000
DTEND:20241113T160000
SEQUENCE:0
TRANSP:OPAQUE
END:VEVENT
END:VCALENDAR