BEGIN:VCALENDAR
VERSION:2.0
PRODID:-//jEvents 2.0 for Joomla//EN
CALSCALE:GREGORIAN
METHOD:PUBLISH
BEGIN:VEVENT
UID:dd36f92177db7be6ae580e5fe900884f
CATEGORIES:15. Bezirk
CREATED:20240722T130503
SUMMARY:Eltern-Kind-Taekwondo (2- 4,5 Jahre)
LOCATION:VHS Rudolfsheim-Fünfhaus
DESCRIPTION:Taekwondo (koreanisch: Weg der Hand- und Fußtechnik) ist eine Kampfkunst, b
 ei der sowohl Hand- als auch Beintechniken angewandt werden. Von anderen as
 iatischen Kampfkünsten unterscheidet sich Taekwondo vor allem durch die Sch
 nelligkeit und Dynamik.\n
X-ALT-DESC;FMTTYPE=text/html:<p>Taekwondo (koreanisch: Weg der Hand- und Fußtechnik) ist eine Kampfkunst
 , bei der sowohl Hand- als auch Beintechniken angewandt werden. Von anderen
  asiatischen Kampfkünsten unterscheidet sich Taekwondo vor allem durch die 
 Schnelligkeit und Dynamik.</p>
CONTACT:01/891 74 115 000
X-EXTRAINFO:[preis='5700'][anmeldung='true']
DTSTAMP:20260423T111321
DTSTART:20241028T160000
DTEND:20241028T170000
SEQUENCE:0
TRANSP:OPAQUE
END:VEVENT
END:VCALENDAR