BEGIN:VCALENDAR
VERSION:2.0
PRODID:-//jEvents 2.0 for Joomla//EN
CALSCALE:GREGORIAN
METHOD:PUBLISH
BEGIN:VEVENT
UID:462224e0cc3422c69abcf5bb484febff
CATEGORIES:18. Bezirk
CREATED:20240822T142849
SUMMARY:Spielgruppe mit Musik für Kleinkinder 
LOCATION:Spielringel\, Mollgasse 11-13
DESCRIPTION:Spielgruppe mit Musik für Kleinkinder(12- 24 Monate)Start:  27.08.2024\nMit
 : Susanne (https://spielringel.at/angebote/das-team/susanne)\nKurstag:  Die
 nstag 15:00-15:45\nTermine:  27.08., 10.09., 17.09., 24.09., 01.10.\nKosten
 :  €90,- (5-Wochen Kurs)\nDer Gruppenraum wird zum Erlebnis- und Bewegungsr
 aum. In gemütlicher, kindgerechter Umgebung können neue Bekanntschaften ges
 chlossen werden.\nJede Stunde regen neue Spielimpulse zum Mitmachen an und 
 geben Anreiz zur leichten Umsetzung zu Hause.\nDein Kind hat die Möglichkei
 t sich frei in einer Gruppe Gleichaltriger zu bewegen und dich trotzdem imm
 er als sicheren Hafen zur Einkehr bei sich zu haben.\n  \n \n
X-ALT-DESC;FMTTYPE=text/html:<header class="frame-header"><h2 class="element-header">Spielgruppe mit Mus
 ik für Kleinkinder</h2><h4>(12- 24 Monate)</h4><p><span class="text-primary
  font-weight-bold">Start: </span> 27.08.2024</p><p><span class="text-primar
 y font-weight-bold">Mit: </span><a href="https://spielringel.at/angebote/da
 s-team/susanne">Susanne</a></p><p><span class="text-primary font-weight-bol
 d">Kurstag: </span> Dienstag 15:00-15:45</p><p><span class="text-primary fo
 nt-weight-bold">Termine: </span> 27.08., 10.09., 17.09., 24.09., 01.10.</p>
 <p><span class="text-primary font-weight-bold">Kosten: </span> €90,- (5-Woc
 hen Kurs)</p><p>Der Gruppenraum wird zum Erlebnis- und Bewegungsraum. In ge
 mütlicher, kindgerechter Umgebung können neue Bekanntschaften geschlossen w
 erden.</p><p>Jede Stunde regen neue Spielimpulse zum Mitmachen an und geben
  Anreiz zur leichten Umsetzung zu Hause.</p><p>Dein Kind hat die Möglichkei
 t sich frei in einer Gruppe Gleichaltriger zu bewegen und dich trotzdem imm
 er als sicheren Hafen zur Einkehr bei sich zu haben.</p><div id="c1114" cla
 ss="frame frame-default frame-type-form_formframework frame-layout-0 frame-
 background-none frame-no-backgroundimage frame-space-before-none frame-spac
 e-after-none"><div class="frame-container"><div class="frame-inner"><div cl
 ass="form-container form-identifier-anmeldeformular-1114"><form enctype="mu
 ltipart/form-data" method="post" novalidate="novalidate" id="anmeldeformula
 r-1114"><div>&nbsp;</div><input autocomplete="CKsqpg3dxi" name="tx_form_for
 mframework[anmeldeformular-1114][CKsqpg3dxi]" type="text" id="anmeldeformul
 ar-1114-CKsqpg3dxi" style="position: absolute; margin: 0 0 0 -999em;" tabin
 dex="-1" aria-hidden="true" /><div class="form-actions"><nav class="form-na
 vigation"><div class="btn-toolbar" role="toolbar"><div class="btn-group" ro
 le="group"><span class="btn-group next"></span></div></div></nav></div></fo
 rm></div></div></div></div><p>&nbsp;</p></header><p>&nbsp;</p>
CONTACT:www.spielringel.at
X-EXTRAINFO:[preis='9000'][anmeldung='true']
DTSTAMP:20260423T112251
DTSTART:20241001T130000
DTEND:20241001T134500
SEQUENCE:0
TRANSP:OPAQUE
END:VEVENT
END:VCALENDAR