BEGIN:VCALENDAR
VERSION:2.0
PRODID:-//jEvents 2.0 for Joomla//EN
CALSCALE:GREGORIAN
METHOD:PUBLISH
BEGIN:VEVENT
UID:6792a35bc3d230ff79b91c2ab938c882
CATEGORIES:18. Bezirk
CREATED:20240822T144525
SUMMARY:Spielgruppe mit Musik für Kleinkinder 
LOCATION:Spielringel\, Mollgasse 11-13
DESCRIPTION:Spielgruppe mit Musik für Kleinkinder Mittwoch (12- 24 Monate)Start:  28.08
 .2024\nMit: Susanne (https://spielringel.at/angebote/das-team/susanne)\nKur
 stag:  Mittwoch 15:00-15:45\nTermine:  28.08., 11.09., 18.09., 25.09., 02.1
 0.\nKosten:  €90,- (5-Wochen Kurs)\nDer Gruppenraum wird zum Erlebnis- und 
 Bewegungsraum. In gemütlicher, kindgerechter Umgebung können neue Bekanntsc
 haften geschlossen werden.\nJede Stunde regen neue Spielimpulse zum Mitmach
 en an und geben Anreiz zur leichten Umsetzung zu Hause.\nDein Kind hat die 
 Möglichkeit sich frei in einer Gruppe Gleichaltriger zu bewegen und dich tr
 otzdem immer als sicheren Hafen zur Einkehr bei sich zu haben.\n  \n \n
X-ALT-DESC;FMTTYPE=text/html:<header class="frame-header"><h2 class="element-header">Spielgruppe mit Mus
 ik für Kleinkinder Mittwoch </h2><h4>(12- 24 Monate)</h4><p><span class="te
 xt-primary font-weight-bold">Start: </span> 28.08.2024</p><p><span class="t
 ext-primary font-weight-bold">Mit: </span><a href="https://spielringel.at/a
 ngebote/das-team/susanne">Susanne</a></p><p><span class="text-primary font-
 weight-bold">Kurstag: </span> Mittwoch 15:00-15:45</p><p><span class="text-
 primary font-weight-bold">Termine: </span> 28.08., 11.09., 18.09., 25.09., 
 02.10.</p><p><span class="text-primary font-weight-bold">Kosten: </span> €9
 0,- (5-Wochen Kurs)</p><p>Der Gruppenraum wird zum Erlebnis- und Bewegungsr
 aum. In gemütlicher, kindgerechter Umgebung können neue Bekanntschaften ges
 chlossen werden.</p><p>Jede Stunde regen neue Spielimpulse zum Mitmachen an
  und geben Anreiz zur leichten Umsetzung zu Hause.</p><p>Dein Kind hat die 
 Möglichkeit sich frei in einer Gruppe Gleichaltriger zu bewegen und dich tr
 otzdem immer als sicheren Hafen zur Einkehr bei sich zu haben.</p><div id="
 c933" class="frame frame-default frame-type-form_formframework frame-layout
 -0 frame-background-none frame-no-backgroundimage frame-space-before-none f
 rame-space-after-none"><div class="frame-container"><div class="frame-inner
 "><div class="form-container form-identifier-anmeldeformular-933"><form enc
 type="multipart/form-data" method="post" novalidate="novalidate" id="anmeld
 eformular-933"><div>&nbsp;</div><input autocomplete="PQnOA" name="tx_form_f
 ormframework[anmeldeformular-933][PQnOA]" type="text" id="anmeldeformular-9
 33-PQnOA" style="position: absolute; margin: 0 0 0 -999em;" tabindex="-1" a
 ria-hidden="true" /><div class="form-actions"><nav class="form-navigation">
 <div class="btn-toolbar" role="toolbar"><div class="btn-group" role="group"
 ><span class="btn-group next"></span></div></div></nav></div></form></div><
 /div></div></div><p>&nbsp;</p></header><p>&nbsp;</p>
CONTACT:www.spielringel.at
X-EXTRAINFO:[preis='9000'][anmeldung='true']
DTSTAMP:20260423T144018
DTSTART:20240911T130000
DTEND:20240911T134500
SEQUENCE:0
TRANSP:OPAQUE
END:VEVENT
END:VCALENDAR