BEGIN:VCALENDAR
VERSION:2.0
PRODID:-//jEvents 2.0 for Joomla//EN
CALSCALE:GREGORIAN
METHOD:PUBLISH
BEGIN:VEVENT
UID:e2b191b4373fd3553793dfd7632e702e
CATEGORIES:18. Bezirk
CREATED:20240822T144808
SUMMARY:Farbenspielerei
LOCATION:Spielringel\, Mollgasse 11-13
DESCRIPTION:<header class="frame-header"><h2 class="element-header">Farbenspielerei </h
 2><h4>Sinnesspiel mit Farben für Kinder ab 1 bis 2,5 Jahren</h4><p><span cl
 ass="text-primary font-weight-bold">Start: </span> 05.09.2024</p><p><span c
 lass="text-primary font-weight-bold">Mit: </span><a href="https://spielring
 el.at/angebote/das-team/claudia">Claudia</a></p><p><span class="text-primar
 y font-weight-bold">Kurstag: </span> Donnerstag 11:15-12:15</p><p><span cla
 ss="text-primary font-weight-bold">Termine: </span> 05.09., 12.09., 19.09.,
  26.09., 03.10.</p><p><span class="text-primary font-weight-bold">Kosten: <
 /span> €95,- (5-Wochen Kurs)</p><p>Bei unserer Farbenspielerei dürfen sich 
 die Kleinen jedesmal auf eine andere Art und Weise mit Farben austoben!</p>
 <p>Einmal malen wir mit Fingerfarben, ein andermal stempeln oder kneten wir
 . -&nbsp; Auf jeden Fall wird es jedesmal sehr bunt!</p><p>Bitte Gewand, da
 s auch schmutzig werden darf, anziehen und Wechselgewand mitnehmen!</p><p>&
 nbsp;</p><p>&nbsp;</p></header><p>&nbsp;</p>
CONTACT:www.spielringel.at
X-EXTRAINFO:[preis='9500'][anmeldung='true']
DTSTAMP:20260423T110712
DTSTART:20240905T091500
DTEND:20240905T101500
SEQUENCE:0
TRANSP:OPAQUE
END:VEVENT
END:VCALENDAR