BEGIN:VCALENDAR
VERSION:2.0
PRODID:-//jEvents 2.0 for Joomla//EN
CALSCALE:GREGORIAN
METHOD:PUBLISH
BEGIN:VEVENT
UID:e79f683c8a99a40fc6d2f28f71ce8d4d
CATEGORIES:2. Bezirk
CREATED:20240828T110304
SUMMARY:Babymassage mit Shiatsu - Kurs in Kleingruppe, 1020 Wien
LOCATION:Shiatsu für Zwei\, Krakauer Straße 19\, 1020 Wien
DESCRIPTION:<p class="font_8 wixui-rich-text__text" style="caret-color: #000000; backgr
 ound-image: none; background-position: 0% 0%; background-size: auto; backgr
 ound-repeat: repeat; background-attachment: scroll; background-origin: padd
 ing-box; background-clip: border-box; border: 0px; outline: 0px; padding: 0
 px; vertical-align: baseline; pointer-events: auto; font-variant-ligatures:
  normal; font-size: 17px; margin-block: 0px; margin: 0px; orphans: 2; widow
 s: 2; text-decoration-thickness: initial; text-decoration-style: initial; t
 ext-decoration-color: initial;">Wohltuende Berührungstechniken ermöglichen 
 gemeinsam mit dem Baby zur Ruhe zu finden, ihm berührend nah zu sein und un
 geteilte Aufmerksamkeit zu schenken.&nbsp;</p><p class="font_8 wixui-rich-t
 ext__text" style="caret-color: #000000; background-image: none; background-
 position: 0% 0%; background-size: auto; background-repeat: repeat; backgrou
 nd-attachment: scroll; background-origin: padding-box; background-clip: bor
 der-box; border: 0px; outline: 0px; padding: 0px; vertical-align: baseline;
  pointer-events: auto; font-variant-ligatures: normal; font-size: 17px; mar
 gin-block: 0px; margin: 0px; orphans: 2; widows: 2; text-decoration-thickne
 ss: initial; text-decoration-style: initial; text-decoration-color: initial
 ;"><span class="wixGuard wixui-rich-text__text" style="background-image: no
 ne; background-position: 0% 0%; background-size: auto; background-repeat: r
 epeat; background-attachment: scroll; background-origin: padding-box; backg
 round-clip: border-box; border: 0px; margin: 0px; outline: 0px; padding: 0p
 x; vertical-align: baseline;">​</span></p><p class="font_8 wixui-rich-text_
 _text" style="caret-color: #000000; background-image: none; background-posi
 tion: 0% 0%; background-size: auto; background-repeat: repeat; background-a
 ttachment: scroll; background-origin: padding-box; background-clip: border-
 box; border: 0px; outline: 0px; padding: 0px; vertical-align: baseline; poi
 nter-events: auto; font-variant-ligatures: normal; font-size: 17px; margin-
 block: 0px; margin: 0px; orphans: 2; widows: 2; text-decoration-thickness: 
 initial; text-decoration-style: initial; text-decoration-color: initial;">V
 ermittelt wird Shiatsu fürs Baby als auch Babymassage, mit und ohne Massage
 öl.</p><p>&nbsp;</p><p>Mehr dazu: <a href="https://www.xn--shiatsufrzwei-3o
 b.at/" title="Shiatsu für Zwei">www.shiatsufuerzwei.at</a></p>
CONTACT:Isabell Frick, Shiatsu-Therapeutin, isabell@shiatsufuerzwei.at oder 06702044155
X-EXTRAINFO:[preis='14000'][anmeldung='true']
DTSTAMP:20260423T191812
DTSTART:20241022T075000
DTEND:20241022T085000
SEQUENCE:0
TRANSP:OPAQUE
END:VEVENT
END:VCALENDAR