BEGIN:VCALENDAR
VERSION:2.0
PRODID:-//jEvents 2.0 for Joomla//EN
CALSCALE:GREGORIAN
METHOD:PUBLISH
BEGIN:VEVENT
UID:f58650da5f3c9b013e9eaeedaf86a904
CATEGORIES:18. Bezirk
CREATED:20240830T142958
SUMMARY:MamaWorkout Kurs
LOCATION:Spielringel  Mollgasse  11-13
DESCRIPTION:Start: 11.09.2024\nMit: Eva (https://spielringel.at/angebote/das-team/eva)\
 nKurstag: Mittwoch 11:00-12:00\nTermine: 11.09., 18.09, 25.09., 02.10., 16.
 10.\nKosten: Kurs (5 Einheiten) €90,-\nDu möchtest etwas für deine Fitness 
 und dein Wohlbefinden tun und dein Baby soll mit dabei sein? Dann ist MamaW
 ORKOUT genau das Richtige für dich! Das einmalige MamaWORKOUT Konzept umfas
 st sowohl Rückbildung, als auch ganzheitliches Fitnesstraining, angepasst a
 n die veränderten körperlichen Bedingungen von Müttern im ersten Babyjahr. 
 Dein Baby wird dabei liebvoll in die Übungen integriert, spielt, turnt oder
  kuschelt mit!\n
X-ALT-DESC;FMTTYPE=text/html:<p style="box-sizing: border-box; margin-top: 0px; margin-bottom: 1rem; col
 or: #2b2b2b; font-family: Roboto; font-size: 16px;"><span class="text-prima
 ry font-weight-bold" style="box-sizing: border-box; font-weight: 700 !impor
 tant; color: #158795 !important;">Start:&nbsp;</span>11.09.2024</p><p style
 ="box-sizing: border-box; margin-top: 0px; margin-bottom: 1rem; color: #2b2
 b2b; font-family: Roboto; font-size: 16px;"><span class="text-primary font-
 weight-bold" style="box-sizing: border-box; font-weight: 700 !important; co
 lor: #158795 !important;">Mit:&nbsp;</span><a href="https://spielringel.at/
 angebote/das-team/eva" style="box-sizing: border-box; color: #158795; text-
 decoration-line: none; background-color: transparent;">Eva</a></p><p style=
 "box-sizing: border-box; margin-top: 0px; margin-bottom: 1rem; color: #2b2b
 2b; font-family: Roboto; font-size: 16px;"><span class="text-primary font-w
 eight-bold" style="box-sizing: border-box; font-weight: 700 !important; col
 or: #158795 !important;">Kurstag:&nbsp;</span>Mittwoch 11:00-12:00</p><p st
 yle="box-sizing: border-box; margin-top: 0px; margin-bottom: 1rem; color: #
 2b2b2b; font-family: Roboto; font-size: 16px;"><span class="text-primary fo
 nt-weight-bold" style="box-sizing: border-box; font-weight: 700 !important;
  color: #158795 !important;">Termine:&nbsp;</span>11.09., 18.09, 25.09., 02
 .10., 16.10.</p><p style="box-sizing: border-box; margin-top: 0px; margin-b
 ottom: 1rem; color: #2b2b2b; font-family: Roboto; font-size: 16px;"><span c
 lass="text-primary font-weight-bold" style="box-sizing: border-box; font-we
 ight: 700 !important; color: #158795 !important;">Kosten:&nbsp;</span>Kurs 
 (5 Einheiten) €90,-</p><p><span style="color: #2b2b2b; font-family: Roboto;
  font-size: 16px;">Du möchtest etwas für deine Fitness und dein Wohlbefinde
 n tun und dein Baby soll mit dabei sein? Dann ist MamaWORKOUT genau das Ric
 htige für dich! Das einmalige MamaWORKOUT Konzept umfasst sowohl Rückbildun
 g, als auch ganzheitliches Fitnesstraining, angepasst an die veränderten kö
 rperlichen Bedingungen von Müttern im ersten Babyjahr. Dein Baby wird dabei
  liebvoll in die Übungen integriert, spielt, turnt oder kuschelt mit!</span
 ></p>
CONTACT:www.spielringel.at
X-EXTRAINFO:[preis='9000'][anmeldung='true']
DTSTAMP:20260423T111255
DTSTART:20240911T090000
DTEND:20240911T100000
SEQUENCE:0
TRANSP:OPAQUE
END:VEVENT
END:VCALENDAR