BEGIN:VCALENDAR
VERSION:2.0
PRODID:-//jEvents 2.0 for Joomla//EN
CALSCALE:GREGORIAN
METHOD:PUBLISH
BEGIN:VEVENT
UID:5e2a5574e9a93e56a4fcb5dea684b229
CATEGORIES:2. Bezirk
CREATED:20240903T092832
SUMMARY:BewegungsRaum nach Pikler und Hengstenberg, 2 - 4 J TINIS KINDERZIMMER
LOCATION:Tini's Kinderzimmer
DESCRIPTION:Für alle deren Kinder schon ein wenig zu groß für den SpielRaum nach Pikler
  sind oder deren Kinder schon in den Kindergarten gehen, haben wir unseren 
 neuen Kurs zusammengestellt/entwickelt.\nDie beliebten Pikler-Bewegungsgerä
 te, werden erweitert und kombiniert, wodurch für die Kinder ganz neue Mögli
 chkeiten zum Bewegen, Klettern und Entdecken entstehen.\nErgänzt wird das v
 ielfältige Bewegungsangebot durch Kleinmaterialien, die zum Erforschen eben
 so einladen, wie zum Rollenspiel oder zur Weiterentwicklung der Feinmotorik
 .\nDer GesprächRaum findet an einem Dienstagabend online via MS Teams statt
 . Hier steht das Gespräch im Mittelpunkt -  Beobachtungen aus dem Bewegungs
 Raum und auch Fragen aus dem Alltagsleben mit deinem Kind zu Hause  können 
 besprochen werden.\nTermin GesprächsRaum:\n8. Oktober\nOnline via MS Teams 
 von 18:00 - 18:50 Uhr\nGebühr pro Kind: 210€ für 10 Einheiten\nGeschwisterk
 ind: 189€ für 10 Einheiten\nTermine:\n1.     Do. 05.09.2024 15:50–16:40\n2.
      Do. 12.09.2024 15:50–16:40\n3.     Do. 19.09.2024 15:50–16:40\n4.     
 Do. 26.09.2024 15:50–16:40\n5.     Do. 03.10.2024 15:50–16:40\n6.     Di. 0
 8.10.2024 18:00–18:50 GesprächsRaum\n7.     Do. 10.10.2024 15:50–16:40\n8. 
     Do. 17.10.2024 15:50–16:40\n9.     Do. 24.10.2024 15:50–16:40\n \n10.  
 Do. 07.11.2024 15:50–16:40\nEinstieg in den Kurs ist jederzeit möglich, sof
 ern Platz ist. Es gilt der aliquote Kursbeitrag ab Einstiegsdatum!\n
X-ALT-DESC;FMTTYPE=text/html:<p style="box-sizing: border-box; margin: 0.8rem 0px 0.2rem; color: #212529
 ; font-family: Titillium, sans-serif; font-size: 16px;">Für alle deren Kind
 er schon ein wenig zu groß für den SpielRaum nach Pikler sind oder deren Ki
 nder schon in den Kindergarten gehen, haben wir unseren neuen Kurs zusammen
 gestellt/entwickelt.</p><p style="box-sizing: border-box; margin: 0.8rem 0p
 x 0.2rem; color: #212529; font-family: Titillium, sans-serif; font-size: 16
 px;">Die beliebten Pikler-Bewegungsgeräte, werden erweitert und kombiniert,
  wodurch für die Kinder ganz neue Möglichkeiten zum Bewegen, Klettern und E
 ntdecken entstehen.</p><p style="box-sizing: border-box; margin: 0.8rem 0px
  0.2rem; color: #212529; font-family: Titillium, sans-serif; font-size: 16p
 x;">Ergänzt wird das vielfältige Bewegungsangebot durch Kleinmaterialien, d
 ie zum Erforschen ebenso einladen, wie zum Rollenspiel oder zur Weiterentwi
 cklung der Feinmotorik.</p><p style="box-sizing: border-box; margin: 0.8rem
  0px 0.2rem; color: #212529; font-family: Titillium, sans-serif; font-size:
  16px;">Der GesprächRaum findet an einem Dienstagabend online via MS Teams 
 statt. Hier steht das Gespräch im Mittelpunkt -&nbsp; Beobachtungen aus dem
  BewegungsRaum und auch Fragen aus dem Alltagsleben mit deinem Kind zu Haus
 e &nbsp;können besprochen werden.</p><p style="box-sizing: border-box; marg
 in: 0.8rem 0px 0.2rem; color: #212529; font-family: Titillium, sans-serif; 
 font-size: 16px;">Termin GesprächsRaum:</p><p style="box-sizing: border-box
 ; margin: 0.8rem 0px 0.2rem; color: #212529; font-family: Titillium, sans-s
 erif; font-size: 16px;">8. Oktober</p><p style="box-sizing: border-box; mar
 gin: 0.8rem 0px 0.2rem; color: #212529; font-family: Titillium, sans-serif;
  font-size: 16px;">Online via MS Teams von 18:00 - 18:50 Uhr</p><p style="b
 ox-sizing: border-box; margin: 0.8rem 0px 0.2rem; color: #212529; font-fami
 ly: Titillium, sans-serif; font-size: 16px;">Gebühr pro Kind: 210€ für 10 E
 inheiten</p><p style="box-sizing: border-box; margin: 0.8rem 0px 0.2rem; co
 lor: #212529; font-family: Titillium, sans-serif; font-size: 16px;">Geschwi
 sterkind: 189€ für 10 Einheiten</p><p class="MsoNormal"><b><span lang="DE" 
 style="font-size: 12.0pt; line-height: 107%; mso-bidi-font-family: Calibri;
  mso-bidi-theme-font: minor-latin;">Termine:</span></b></p><p class="MsoLis
 tParagraphCxSpFirst" style="text-indent: -18.0pt; mso-list: l0 level1 lfo1;
 "><b><span lang="DE" style="font-size: 12.0pt; line-height: 107%; mso-bidi-
 font-family: Calibri; mso-bidi-theme-font: minor-latin;">1.<span style="fon
 t-variant-numeric: normal; font-variant-east-asian: normal; font-variant-al
 ternates: normal; font-size-adjust: none; font-kerning: auto; font-optical-
 sizing: auto; font-feature-settings: normal; font-variation-settings: norma
 l; font-variant-position: normal; font-weight: normal; font-stretch: normal
 ; font-size: 7pt; line-height: normal; font-family: 'Times New Roman';">&nb
 sp;&nbsp;&nbsp;&nbsp; </span></span></b><b><span lang="DE" style="font-size
 : 12.0pt; line-height: 107%; mso-bidi-font-family: Calibri; mso-bidi-theme-
 font: minor-latin;">Do. 05.09.2024 15:50–16:40</span></b></p><p class="MsoL
 istParagraphCxSpMiddle" style="text-indent: -18.0pt; mso-list: l0 level1 lf
 o1;"><b><span lang="DE" style="font-size: 12.0pt; line-height: 107%; mso-bi
 di-font-family: Calibri; mso-bidi-theme-font: minor-latin;">2.<span style="
 font-variant-numeric: normal; font-variant-east-asian: normal; font-variant
 -alternates: normal; font-size-adjust: none; font-kerning: auto; font-optic
 al-sizing: auto; font-feature-settings: normal; font-variation-settings: no
 rmal; font-variant-position: normal; font-weight: normal; font-stretch: nor
 mal; font-size: 7pt; line-height: normal; font-family: 'Times New Roman';">
 &nbsp;&nbsp;&nbsp;&nbsp; </span></span></b><b><span lang="DE" style="font-s
 ize: 12.0pt; line-height: 107%; mso-bidi-font-family: Calibri; mso-bidi-the
 me-font: minor-latin;">Do. 12.09.2024 15:50–16:40</span></b></p><p class="M
 soListParagraphCxSpMiddle" style="text-indent: -18.0pt; mso-list: l0 level1
  lfo1;"><b><span lang="DE" style="font-size: 12.0pt; line-height: 107%; mso
 -bidi-font-family: Calibri; mso-bidi-theme-font: minor-latin;">3.<span styl
 e="font-variant-numeric: normal; font-variant-east-asian: normal; font-vari
 ant-alternates: normal; font-size-adjust: none; font-kerning: auto; font-op
 tical-sizing: auto; font-feature-settings: normal; font-variation-settings:
  normal; font-variant-position: normal; font-weight: normal; font-stretch: 
 normal; font-size: 7pt; line-height: normal; font-family: 'Times New Roman'
 ;">&nbsp;&nbsp;&nbsp;&nbsp; </span></span></b><b><span lang="DE" style="fon
 t-size: 12.0pt; line-height: 107%; mso-bidi-font-family: Calibri; mso-bidi-
 theme-font: minor-latin;">Do. 19.09.2024 15:50–16:40</span></b></p><p class
 ="MsoListParagraphCxSpMiddle" style="text-indent: -18.0pt; mso-list: l0 lev
 el1 lfo1;"><b><span lang="DE" style="font-size: 12.0pt; line-height: 107%; 
 mso-bidi-font-family: Calibri; mso-bidi-theme-font: minor-latin;">4.<span s
 tyle="font-variant-numeric: normal; font-variant-east-asian: normal; font-v
 ariant-alternates: normal; font-size-adjust: none; font-kerning: auto; font
 -optical-sizing: auto; font-feature-settings: normal; font-variation-settin
 gs: normal; font-variant-position: normal; font-weight: normal; font-stretc
 h: normal; font-size: 7pt; line-height: normal; font-family: 'Times New Rom
 an';">&nbsp;&nbsp;&nbsp;&nbsp; </span></span></b><b><span lang="DE" style="
 font-size: 12.0pt; line-height: 107%; mso-bidi-font-family: Calibri; mso-bi
 di-theme-font: minor-latin;">Do. 26.09.2024 15:50–16:40</span></b></p><p cl
 ass="MsoListParagraphCxSpMiddle" style="text-indent: -18.0pt; mso-list: l0 
 level1 lfo1;"><b><span lang="DE" style="font-size: 12.0pt; line-height: 107
 %; mso-bidi-font-family: Calibri; mso-bidi-theme-font: minor-latin;">5.<spa
 n style="font-variant-numeric: normal; font-variant-east-asian: normal; fon
 t-variant-alternates: normal; font-size-adjust: none; font-kerning: auto; f
 ont-optical-sizing: auto; font-feature-settings: normal; font-variation-set
 tings: normal; font-variant-position: normal; font-weight: normal; font-str
 etch: normal; font-size: 7pt; line-height: normal; font-family: 'Times New 
 Roman';">&nbsp;&nbsp;&nbsp;&nbsp; </span></span></b><b><span lang="DE" styl
 e="font-size: 12.0pt; line-height: 107%; mso-bidi-font-family: Calibri; mso
 -bidi-theme-font: minor-latin;">Do. 03.10.2024 15:50–16:40</span></b></p><p
  class="MsoListParagraphCxSpMiddle" style="text-indent: -18.0pt; mso-list: 
 l0 level1 lfo1;"><b><span lang="DE" style="font-size: 12.0pt; line-height: 
 107%; mso-bidi-font-family: Calibri; mso-bidi-theme-font: minor-latin;">6.<
 span style="font-variant-numeric: normal; font-variant-east-asian: normal; 
 font-variant-alternates: normal; font-size-adjust: none; font-kerning: auto
 ; font-optical-sizing: auto; font-feature-settings: normal; font-variation-
 settings: normal; font-variant-position: normal; font-weight: normal; font-
 stretch: normal; font-size: 7pt; line-height: normal; font-family: 'Times N
 ew Roman';">&nbsp;&nbsp;&nbsp;&nbsp; </span></span></b><b><span lang="DE" s
 tyle="font-size: 12.0pt; line-height: 107%; mso-bidi-font-family: Calibri; 
 mso-bidi-theme-font: minor-latin;">Di. 08.10.2024 18:00–18:50 GesprächsRaum
 </span></b></p><p class="MsoListParagraphCxSpMiddle" style="text-indent: -1
 8.0pt; mso-list: l0 level1 lfo1;"><b><span lang="DE" style="font-size: 12.0
 pt; line-height: 107%; mso-bidi-font-family: Calibri; mso-bidi-theme-font: 
 minor-latin;">7.<span style="font-variant-numeric: normal; font-variant-eas
 t-asian: normal; font-variant-alternates: normal; font-size-adjust: none; f
 ont-kerning: auto; font-optical-sizing: auto; font-feature-settings: normal
 ; font-variation-settings: normal; font-variant-position: normal; font-weig
 ht: normal; font-stretch: normal; font-size: 7pt; line-height: normal; font
 -family: 'Times New Roman';">&nbsp;&nbsp;&nbsp;&nbsp; </span></span></b><b>
 <span lang="DE" style="font-size: 12.0pt; line-height: 107%; mso-bidi-font-
 family: Calibri; mso-bidi-theme-font: minor-latin;">Do. 10.10.2024 15:50–16
 :40</span></b></p><p class="MsoListParagraphCxSpMiddle" style="text-indent:
  -18.0pt; mso-list: l0 level1 lfo1;"><b><span lang="DE" style="font-size: 1
 2.0pt; line-height: 107%; mso-bidi-font-family: Calibri; mso-bidi-theme-fon
 t: minor-latin;">8.<span style="font-variant-numeric: normal; font-variant-
 east-asian: normal; font-variant-alternates: normal; font-size-adjust: none
 ; font-kerning: auto; font-optical-sizing: auto; font-feature-settings: nor
 mal; font-variation-settings: normal; font-variant-position: normal; font-w
 eight: normal; font-stretch: normal; font-size: 7pt; line-height: normal; f
 ont-family: 'Times New Roman';">&nbsp;&nbsp;&nbsp;&nbsp; </span></span></b>
 <b><span lang="DE" style="font-size: 12.0pt; line-height: 107%; mso-bidi-fo
 nt-family: Calibri; mso-bidi-theme-font: minor-latin;">Do. 17.10.2024 15:50
 –16:40</span></b></p><p class="MsoListParagraphCxSpMiddle" style="text-inde
 nt: -18.0pt; mso-list: l0 level1 lfo1;"><b><span lang="DE" style="font-size
 : 12.0pt; line-height: 107%; mso-bidi-font-family: Calibri; mso-bidi-theme-
 font: minor-latin;">9.<span style="font-variant-numeric: normal; font-varia
 nt-east-asian: normal; font-variant-alternates: normal; font-size-adjust: n
 one; font-kerning: auto; font-optical-sizing: auto; font-feature-settings: 
 normal; font-variation-settings: normal; font-variant-position: normal; fon
 t-weight: normal; font-stretch: normal; font-size: 7pt; line-height: normal
 ; font-family: 'Times New Roman';">&nbsp;&nbsp;&nbsp;&nbsp; </span></span><
 /b><b><span lang="DE" style="font-size: 12.0pt; line-height: 107%; mso-bidi
 -font-family: Calibri; mso-bidi-theme-font: minor-latin;">Do. 24.10.2024 15
 :50–16:40</span></b></p><p style="box-sizing: border-box; margin: 0.8rem 0p
 x 0.2rem; color: #212529; font-family: Titillium, sans-serif; font-size: 16
 px;">&nbsp;</p><p class="MsoListParagraphCxSpLast" style="text-indent: -18.
 0pt; mso-list: l0 level1 lfo1;"><b><span lang="DE" style="font-size: 12.0pt
 ; line-height: 107%; mso-bidi-font-family: Calibri; mso-bidi-theme-font: mi
 nor-latin;">10.<span style="font-variant-numeric: normal; font-variant-east
 -asian: normal; font-variant-alternates: normal; font-size-adjust: none; fo
 nt-kerning: auto; font-optical-sizing: auto; font-feature-settings: normal;
  font-variation-settings: normal; font-variant-position: normal; font-weigh
 t: normal; font-stretch: normal; font-size: 7pt; line-height: normal; font-
 family: 'Times New Roman';">&nbsp; </span></span></b><b><span lang="DE" sty
 le="font-size: 12.0pt; line-height: 107%; mso-bidi-font-family: Calibri; ms
 o-bidi-theme-font: minor-latin;">Do. 07.11.2024 15:50–16:40</span></b></p><
 p style="box-sizing: border-box; margin: 0.8rem 0px 0.2rem; color: #212529;
  font-family: Titillium, sans-serif; font-size: 16px;">Einstieg in den Kurs
  ist jederzeit möglich, sofern Platz ist. Es gilt der aliquote Kursbeitrag 
 ab Einstiegsdatum!</p>
CONTACT:tini@tiniskinderzimmer.at , 0699 17 36 01 95
X-EXTRAINFO:[preis='2100'][anmeldung='true']
DTSTAMP:20260423T175533
DTSTART:20241003T135000
DTEND:20241003T144000
SEQUENCE:0
TRANSP:OPAQUE
END:VEVENT
END:VCALENDAR