BEGIN:VCALENDAR
VERSION:2.0
PRODID:-//jEvents 2.0 for Joomla//EN
CALSCALE:GREGORIAN
METHOD:PUBLISH
BEGIN:VEVENT
UID:15292cf9ef1d7e5cd90330002cf5989b
CATEGORIES:2. Bezirk
CREATED:20240930T090231
SUMMARY:Spielstunde mit grob- und sensomotorischen Elementen, Sitzalter bis 3 Jahre TINIS KINDERZIMMER
LOCATION:Tini's Kinderzimmer
DESCRIPTION:Die regelmäßige Teilnahme an der Spielstunde hilft, bei sozialem Austausch,
  als Vorbereitung auf Krippe/Kindergarten und beinhaltet in den Stunden gro
 bmotorische und sensomotorische Teile.Der grobmotorische Teil stärkt das Gl
 eichgewichtsgefühl und verbindet die Gehirnhälften. Der sensomotorische Tei
 l zielt auf die Verbesserung der Feinmotorik ab. Das liebevolle Umfeld der 
 Spielstunde bietet dem Kind ein Feld der Entspannung und bewussten Körperko
 ntakt an. Nebenbei wird die kindliche Wahrnehmung trainiert und sie haben F
 reude an Beschäftigungen, bei denen die Aufmerksamkeitsfähigkeit erhöht wir
 d.Ich begleite die Stunde mit Babyzeichen. Es ist keine Voraussetzung, dass
  ein Zwergensprache-Kurs/-Workshop besucht worden ist. Es ist für alle Mama
 s/Papas und Kleinkinder/Kinder, die eine Spielgruppe besuchen möchten.\nGeb
 ühr pro Kind 189€ für 9 Einheiten\nGeschwisterkind ab Sitzalter: 171€ für 9
  Einheiten\nZwillinge: 342€ insgesamt für 10 Einheiten\nTermine:\nDi. 24.09
 .2024 10:50–11:50Di. 01.10.2024 10:50–11:50Di. 08.10.2024 10:50–11:50Di. 15
 .10.2024 10:50–11:50Di. 22.10.2024 10:50–11:50Di. 05.11.2024 10:50–11:50Di.
  12.11.2024 10:50–11:50Di. 19.11.2024 10:50–11:50Di. 26.11.2024 10:50–11:50
 Einstieg in den Kurs ist jederzeit möglich, sofern Platz ist. Es gilt der a
 liquote Kursbeitrag ab Einstiegsdatum!\nERSATZTERMIN bei Verhinderung der K
 ursleitung: 03.12.2024\n
X-ALT-DESC;FMTTYPE=text/html:<p style="box-sizing: border-box; margin: 0.8rem 0px 0.2rem; color: #212529
 ; font-family: Titillium, sans-serif; font-size: 16px;">Die regelmäßige Tei
 lnahme an der Spielstunde hilft, bei sozialem Austausch, als Vorbereitung a
 uf Krippe/Kindergarten und beinhaltet in den Stunden grobmotorische und sen
 somotorische Teile.<br style="box-sizing: border-box;" />Der grobmotorische
  Teil stärkt das Gleichgewichtsgefühl und verbindet die Gehirnhälften. Der 
 sensomotorische Teil zielt auf die Verbesserung der Feinmotorik ab. Das lie
 bevolle Umfeld der Spielstunde bietet dem Kind ein Feld der Entspannung und
  bewussten Körperkontakt an. Nebenbei wird die kindliche Wahrnehmung traini
 ert und sie haben Freude an Beschäftigungen, bei denen die Aufmerksamkeitsf
 ähigkeit erhöht wird.<br style="box-sizing: border-box;" />Ich begleite die
  Stunde mit Babyzeichen. Es ist keine Voraussetzung, dass ein Zwergensprach
 e-Kurs/-Workshop besucht worden ist. Es ist für alle Mamas/Papas und Kleink
 inder/Kinder, die eine Spielgruppe besuchen möchten.</p><p style="box-sizin
 g: border-box; margin: 0.8rem 0px 0.2rem; color: #212529; font-family: Titi
 llium, sans-serif; font-size: 16px;">Gebühr pro Kind 189€ für 9 Einheiten</
 p><p style="box-sizing: border-box; margin: 0.8rem 0px 0.2rem; color: #2125
 29; font-family: Titillium, sans-serif; font-size: 16px;">Geschwisterkind a
 b Sitzalter: 171€ für 9 Einheiten</p><p style="box-sizing: border-box; marg
 in: 0.8rem 0px 0.2rem; color: #212529; font-family: Titillium, sans-serif; 
 font-size: 16px;">Zwillinge: 342€ insgesamt für 10 Einheiten</p><p style="b
 ox-sizing: border-box; margin: 0.8rem 0px 0.2rem; color: #212529; font-fami
 ly: Titillium, sans-serif; font-size: 16px;">Termine:</p><ol class="toggabl
 e-list toggable" style="box-sizing: border-box; margin-top: 0px; margin-bot
 tom: 1rem; list-style: none; padding-left: 0px; color: #212529; font-family
 : Titillium, sans-serif; font-size: 0.9rem;"><li style="box-sizing: border-
 box; font-size: 0.9rem; position: relative; margin: 0.4rem 0px 0.4rem calc(
 25px + 0.5rem);">Di. 24.09.2024 10:50–11:50</li><li style="box-sizing: bord
 er-box; font-size: 0.9rem; position: relative; margin: 0.4rem 0px 0.4rem ca
 lc(25px + 0.5rem);">Di. 01.10.2024 10:50–11:50</li><li style="box-sizing: b
 order-box; font-size: 0.9rem; position: relative; margin: 0.4rem 0px 0.4rem
  calc(25px + 0.5rem);">Di. 08.10.2024 10:50–11:50</li><li style="box-sizing
 : border-box; font-size: 0.9rem; position: relative; margin: 0.4rem 0px 0.4
 rem calc(25px + 0.5rem);">Di. 15.10.2024 10:50–11:50</li><li style="box-siz
 ing: border-box; font-size: 0.9rem; position: relative; margin: 0.4rem 0px 
 0.4rem calc(25px + 0.5rem);">Di. 22.10.2024 10:50–11:50</li><li style="box-
 sizing: border-box; font-size: 0.9rem; position: relative; margin: 0.4rem 0
 px 0.4rem calc(25px + 0.5rem);">Di. 05.11.2024 10:50–11:50</li><li style="b
 ox-sizing: border-box; font-size: 0.9rem; position: relative; margin: 0.4re
 m 0px 0.4rem calc(25px + 0.5rem);">Di. 12.11.2024 10:50–11:50</li><li style
 ="box-sizing: border-box; font-size: 0.9rem; position: relative; margin: 0.
 4rem 0px 0.4rem calc(25px + 0.5rem);">Di. 19.11.2024 10:50–11:50</li><li st
 yle="box-sizing: border-box; font-size: 0.9rem; position: relative; margin:
  0.4rem 0px 0.4rem calc(25px + 0.5rem);">Di. 26.11.2024 10:50–11:50</li></o
 l><p style="box-sizing: border-box; margin: 0.8rem 0px 0.2rem; color: #2125
 29; font-family: Titillium, sans-serif; font-size: 16px;">Einstieg in den K
 urs ist jederzeit möglich, sofern Platz ist. Es gilt der aliquote Kursbeitr
 ag ab Einstiegsdatum!</p><p style="box-sizing: border-box; margin: 0.8rem 0
 px 0.2rem; color: #212529; font-family: Titillium, sans-serif; font-size: 1
 6px;">ERSATZTERMIN bei Verhinderung der Kursleitung: 03.12.2024</p>
CONTACT:tini@tiniskinderzimmer.at , 0699 17 36 01 95
X-EXTRAINFO:[preis='2100'][anmeldung='true']
DTSTAMP:20260423T112242
DTSTART:20241126T095000
DTEND:20241126T105000
SEQUENCE:0
TRANSP:OPAQUE
END:VEVENT
END:VCALENDAR