BEGIN:VCALENDAR
VERSION:2.0
PRODID:-//jEvents 2.0 for Joomla//EN
CALSCALE:GREGORIAN
METHOD:PUBLISH
BEGIN:VEVENT
UID:b733072b7ee13894367cc6f51edd896e
CATEGORIES:2. Bezirk
CREATED:20240930T090602
SUMMARY:SpielRaum nach Pikler 12-28 Monate TINIS KINDERZIMMER
LOCATION:Tini's Kinderzimmer
DESCRIPTION:Im Spielraum nach Emmi Pikler erwartet dich und dein Baby eine vorbereitete
  Umgebung mit verschiedenen Bewegungsgeräten, wie Dreieckständer mit Rutsch
 brett oder Krabbelkiste, sowie offene Spielmaterialien wie Holzringe, Dosen
  und Körbe, Bausteine, Löffel, Kübel, Becher, Tücher und vieles mehr. Das M
 aterial ist auf die Spiel-und Bewegungsentwicklung der Kinderabgestimmt und
  lädt zum selbständigen Tun, Ausprobieren und Entdecken ein. Die Kinder bek
 ommen die Möglichkeit in altershomogenen Gruppen und einer altersadäquaten 
 Umgebung ihrem Interesse an Bewegung, Kontakt und Spiel nachzugehen. Die ei
 genständige Erkundung der Geräte und Materialien stärkt die Selbstwahrnehmu
 ng und das Selbstvertrauen der Kinder, Herausforderungen verschiedenster Ar
 t fördern die Geschicklichkeit, sowie Balance und Geduld. Die Eltern bekomm
 en die Möglichkeit ihr Kind in entspannter Atmosphäre zu beobachten - ihm e
 infach nur zuzuschauen, aber auch da zu sein, wenn es Nähe und Trost brauch
 t. Durch das Beobachten wächst das Vertrauen in die Kompetenzen des Kindes 
 und neue Perspektiven eröffnen sich.\nDer GesprächRaum findet am Dienstagab
 end online via MS Teams statt. Hier steht das Gespräch im Mittelpunkt -  Be
 obachtungen aus dem SpielRaum und auch Fragen aus dem Alltagsleben mit dein
 em Kind zu Hause  können besprochen werden.\nTermin GesprächsRaum:\n15:10\n
 Online via MS Teams von 18:00 - 18:50 Uhr\nGebühr pro Person 132€ für 6 Ein
 heiten\nZwillinge 242€ für 6 Einheiten\nTermine:\nDo. 03.10.2024 09:30–10:3
 0Do. 10.10.2024 09:30–10:30Di. 15.10.2024 18:00–18:50Do. 17.10.2024 09:30–1
 0:30Do. 24.10.2024 09:30–10:30Do. 07.11.2024 09:30–10:30Einstieg in den Kur
 s ist jederzeit möglich, sofern Platz ist. Es gilt der aliquote Kursbeitrag
  ab Einstiegsdatum!\nERSATZTERMIN bei Verhinderung der Kursleitung: 14. Nov
 ember\n
X-ALT-DESC;FMTTYPE=text/html:<p style="box-sizing: border-box; margin: 0.8rem 0px 0.2rem; color: #212529
 ; font-family: Titillium, sans-serif; font-size: 16px;">Im Spielraum nach E
 mmi Pikler erwartet dich und dein Baby eine vorbereitete Umgebung mit versc
 hiedenen Bewegungsgeräten, wie Dreieckständer mit Rutschbrett oder Krabbelk
 iste, sowie offene Spielmaterialien wie Holzringe, Dosen und Körbe, Baustei
 ne, Löffel, Kübel, Becher, Tücher und vieles mehr. Das Material ist auf die
  Spiel-und Bewegungsentwicklung der Kinderabgestimmt und lädt zum selbständ
 igen Tun, Ausprobieren und Entdecken ein. Die Kinder bekommen die Möglichke
 it in altershomogenen Gruppen und einer altersadäquaten Umgebung ihrem Inte
 resse an Bewegung, Kontakt und Spiel nachzugehen. Die eigenständige Erkundu
 ng der Geräte und Materialien stärkt die Selbstwahrnehmung und das Selbstve
 rtrauen der Kinder, Herausforderungen verschiedenster Art fördern die Gesch
 icklichkeit, sowie Balance und Geduld. Die Eltern bekommen die Möglichkeit 
 ihr Kind in entspannter Atmosphäre zu beobachten - ihm einfach nur zuzuscha
 uen, aber auch da zu sein, wenn es Nähe und Trost braucht. Durch das Beobac
 hten wächst das Vertrauen in die Kompetenzen des Kindes und neue Perspektiv
 en eröffnen sich.</p><p style="box-sizing: border-box; margin: 0.8rem 0px 0
 .2rem; color: #212529; font-family: Titillium, sans-serif; font-size: 16px;
 ">Der GesprächRaum findet am Dienstagabend online via MS Teams statt. Hier 
 steht das Gespräch im Mittelpunkt -&nbsp; Beobachtungen aus dem SpielRaum u
 nd auch Fragen aus dem Alltagsleben mit deinem Kind zu Hause &nbsp;können b
 esprochen werden.</p><p style="box-sizing: border-box; margin: 0.8rem 0px 0
 .2rem; color: #212529; font-family: Titillium, sans-serif; font-size: 16px;
 ">Termin GesprächsRaum:</p><p style="box-sizing: border-box; margin: 0.8rem
  0px 0.2rem; color: #212529; font-family: Titillium, sans-serif; font-size:
  16px;">15:10</p><p style="box-sizing: border-box; margin: 0.8rem 0px 0.2re
 m; color: #212529; font-family: Titillium, sans-serif; font-size: 16px;">On
 line via MS Teams von 18:00 - 18:50 Uhr</p><p style="box-sizing: border-box
 ; margin: 0.8rem 0px 0.2rem; color: #212529; font-family: Titillium, sans-s
 erif; font-size: 16px;">Gebühr pro Person 132€ für 6 Einheiten</p><p style=
 "box-sizing: border-box; margin: 0.8rem 0px 0.2rem; color: #212529; font-fa
 mily: Titillium, sans-serif; font-size: 16px;">Zwillinge 242€ für 6 Einheit
 en</p><p style="box-sizing: border-box; margin: 0.8rem 0px 0.2rem; color: #
 212529; font-family: Titillium, sans-serif; font-size: 16px;">Termine:</p><
 ol class="toggable-list toggable" style="box-sizing: border-box; margin-top
 : 0px; margin-bottom: 1rem; list-style: none; padding-left: 0px; color: #21
 2529; font-family: Titillium, sans-serif; font-size: 0.9rem;"><li style="bo
 x-sizing: border-box; font-size: 0.9rem; position: relative; margin: 0.4rem
  0px 0.4rem calc(25px + 0.5rem);">Do. 03.10.2024 09:30–10:30</li><li style=
 "box-sizing: border-box; font-size: 0.9rem; position: relative; margin: 0.4
 rem 0px 0.4rem calc(25px + 0.5rem);">Do. 10.10.2024 09:30–10:30</li><li sty
 le="box-sizing: border-box; font-size: 0.9rem; position: relative; margin: 
 0.4rem 0px 0.4rem calc(25px + 0.5rem);">Di. 15.10.2024 18:00–18:50</li><li 
 style="box-sizing: border-box; font-size: 0.9rem; position: relative; margi
 n: 0.4rem 0px 0.4rem calc(25px + 0.5rem);">Do. 17.10.2024 09:30–10:30</li><
 li style="box-sizing: border-box; font-size: 0.9rem; position: relative; ma
 rgin: 0.4rem 0px 0.4rem calc(25px + 0.5rem);">Do. 24.10.2024 09:30–10:30</l
 i><li style="box-sizing: border-box; font-size: 0.9rem; position: relative;
  margin: 0.4rem 0px 0.4rem calc(25px + 0.5rem);">Do. 07.11.2024 09:30–10:30
 </li></ol><p style="box-sizing: border-box; margin: 0.8rem 0px 0.2rem; colo
 r: #212529; font-family: Titillium, sans-serif; font-size: 16px;">Einstieg 
 in den Kurs ist jederzeit möglich, sofern Platz ist. Es gilt der aliquote K
 ursbeitrag ab Einstiegsdatum!</p><p style="box-sizing: border-box; margin: 
 0.8rem 0px 0.2rem; color: #212529; font-family: Titillium, sans-serif; font
 -size: 16px;">ERSATZTERMIN bei Verhinderung der Kursleitung: 14. November</
 p>
CONTACT:tini@tiniskinderzimmer.at , 0699 17 36 01 95
X-EXTRAINFO:[preis='2200'][anmeldung='true']
DTSTAMP:20260423T162414
DTSTART:20241017T073000
DTEND:20241017T083000
SEQUENCE:0
TRANSP:OPAQUE
END:VEVENT
END:VCALENDAR