BEGIN:VCALENDAR
VERSION:2.0
PRODID:-//jEvents 2.0 for Joomla//EN
CALSCALE:GREGORIAN
METHOD:PUBLISH
BEGIN:VEVENT
UID:f93ee2facfb965fd0d837023db0f1994
CATEGORIES:18. Bezirk
CREATED:20241007T105732
SUMMARY:Spielgruppe mit Musik für Babys
LOCATION:Spielringel  Mollgasse  11-13
DESCRIPTION:Spielgruppe mit Musik für Babysfür Babys (6-14 Monate)Termine: 15.10., 22.1
 0., 05.11., 12.11., 19.11.\n„Musikalität ist vor allem die Fähigkeit von Mu
 sik berührt zu werden."\nEs wird dem Alter und der Entwicklung der Babys en
 tsprechend, gespielt, gesungen, getanzt und musiziert. Musik fördert die En
 twicklung von Babys: Sie ist gut für die Bewegungskoordination, die Sprache
 ntwicklung, den Gleichgewichtssinn und die Bindung zur Bezugsperson. Das be
 ste daran ist, dass es einfach Freude macht!\n
X-ALT-DESC;FMTTYPE=text/html:<h2 class="element-header" style="box-sizing: border-box; margin-top: 0px; 
 margin-bottom: 0.5rem; font-family: Montserrat; font-weight: 300; line-heig
 ht: 1.2; font-size: 2.275rem; color: #2b2b2b;">Spielgruppe mit Musik für Ba
 bys</h2><h4 style="box-sizing: border-box; margin-top: 0px; margin-bottom: 
 1rem; font-family: Montserrat; font-weight: 300; line-height: 1.2; font-siz
 e: 1.625rem; color: #2b2b2b;">für Babys (6-14 Monate)</h4><p style="box-siz
 ing: border-box; margin-top: 0px; margin-bottom: 1rem; color: #2b2b2b; font
 -family: Roboto; font-size: 16px;"><span class="text-primary font-weight-bo
 ld" style="box-sizing: border-box; font-weight: 700 !important; color: #158
 795 !important;">Termine:&nbsp;</span>15.10., 22.10., 05.11., 12.11., 19.11
 .</p><p style="box-sizing: border-box; margin-top: 0px; margin-bottom: 1rem
 ; color: #2b2b2b; font-family: Roboto; font-size: 16px;">„Musikalität ist v
 or allem die Fähigkeit von Musik berührt zu werden."</p><p style="box-sizin
 g: border-box; margin-top: 0px; margin-bottom: 0px; color: #2b2b2b; font-fa
 mily: Roboto; font-size: 16px;">Es wird dem Alter und der Entwicklung der B
 abys entsprechend, gespielt, gesungen, getanzt und musiziert. Musik fördert
  die Entwicklung von Babys: Sie ist gut für die Bewegungskoordination, die 
 Sprachentwicklung, den Gleichgewichtssinn und die Bindung zur Bezugsperson.
  Das beste daran ist, dass es einfach Freude macht!</p>
CONTACT:www.spielringel.at
X-EXTRAINFO:[preis='9000'][anmeldung='true']
DTSTAMP:20260423T094211
DTSTART:20241112T130000
DTEND:20241112T134500
SEQUENCE:0
TRANSP:OPAQUE
END:VEVENT
END:VCALENDAR