BEGIN:VCALENDAR
VERSION:2.0
PRODID:-//jEvents 2.0 for Joomla//EN
CALSCALE:GREGORIAN
METHOD:PUBLISH
BEGIN:VEVENT
UID:3f73db304ea677becceb7a8636a9edb1
CATEGORIES:18. Bezirk
CREATED:20241007T110912
SUMMARY:Spielend durch die Jahreszeiten
LOCATION:Spielringel  Mollgasse  11-13
DESCRIPTION:Spielend durch die Jahreszeitenfür Kinder ab 1 bis 2,5 Jahren (mit Begleitu
 ng) Termine: 17.10., 24.10., 07.11., 14.11., 21.11.\nWir spielen und bastel
 n passend zur Jahreszeit!\nIn dieser Spielgruppe für Kleinkinder werden wir
  gemeinsam den Jahreskreis mit allen Sinnen erleben. Es wird der Jahreszeit
  entsprechend gebastelt, gewerkt, entdeckt und gespielt. Natürlich bleibt a
 uch genug Zeit und Raum für soziale Interaktionen und Bewegungen.\n
X-ALT-DESC;FMTTYPE=text/html:<header class="frame-header" style="box-sizing: border-box; color: #2b2b2b;
  font-family: Roboto; font-size: 16px;"><h2 class="element-header" style="b
 ox-sizing: border-box; margin-top: 0px; margin-bottom: 0.5rem; font-family:
  Montserrat; font-weight: 300; line-height: 1.2; font-size: 2.275rem;">Spie
 lend durch die Jahreszeiten</h2><h4 style="box-sizing: border-box; margin-t
 op: 0px; margin-bottom: 1rem; font-family: Montserrat; font-weight: 300; li
 ne-height: 1.2; font-size: 1.625rem;">für Kinder ab 1 bis 2,5 Jahren (mit B
 egleitung)</h4></header><div class="frame-container" style="box-sizing: bor
 der-box; position: relative; width: 815px; padding-right: 0px; padding-left
 : 0px; margin-right: auto; margin-left: auto; max-width: 1140px; margin-bot
 tom: 0px; color: #2b2b2b; font-family: Roboto; font-size: 16px;"><div class
 ="frame-inner" style="box-sizing: border-box;"><div class="textpic textpic-
 right" style="box-sizing: border-box; display: flex; flex-wrap: wrap; margi
 n-left: -20px; margin-right: -20px; margin-bottom: 0px;"><div class="textpi
 c-item textpic-gallery" style="box-sizing: border-box; order: 2; width: 427
 .5px; padding-left: 20px; padding-right: 20px; margin-bottom: 0px;"><div cl
 ass="gallery-row" style="box-sizing: border-box; display: flex; flex-wrap: 
 wrap; margin-left: -0.5rem; margin-right: -0.5rem; margin-bottom: -1rem;"><
 div class="gallery-item gallery-item-size-1" style="box-sizing: border-box;
  padding-left: 0.5rem; padding-right: 0.5rem; width: 403.5px;">&nbsp;</div>
 </div></div><div class="textpic-item textpic-text" style="box-sizing: borde
 r-box; order: 1; width: 427.5px; padding-left: 20px; padding-right: 20px; m
 argin-bottom: 0px;"><p style="box-sizing: border-box; margin-top: 0px; marg
 in-bottom: 1rem;"><span class="text-primary font-weight-bold" style="box-si
 zing: border-box; font-weight: 700 !important; color: #158795 !important;">
 Termine:&nbsp;</span>17.10., 24.10., 07.11., 14.11., 21.11.</p><p style="bo
 x-sizing: border-box; margin-top: 0px; margin-bottom: 1rem;">Wir spielen un
 d basteln passend zur Jahreszeit!</p><p style="box-sizing: border-box; marg
 in-top: 0px; margin-bottom: 0px;">In dieser Spielgruppe für Kleinkinder wer
 den wir gemeinsam den Jahreskreis mit allen Sinnen erleben. Es wird der Jah
 reszeit entsprechend gebastelt, gewerkt, entdeckt und gespielt. Natürlich b
 leibt auch genug Zeit und Raum für soziale Interaktionen und Bewegungen.</p
 ></div></div></div></div>
CONTACT:www.spielringel.at
X-EXTRAINFO:[preis='9500'][anmeldung='true']
DTSTAMP:20260423T111253
DTSTART:20241028T070000
DTEND:20241028T160000
SEQUENCE:0
TRANSP:OPAQUE
END:VEVENT
END:VCALENDAR