BEGIN:VCALENDAR
VERSION:2.0
PRODID:-//jEvents 2.0 for Joomla//EN
CALSCALE:GREGORIAN
METHOD:PUBLISH
BEGIN:VEVENT
UID:172667c00e9d50a0741e26c4e766a2bc
CATEGORIES:18. Bezirk
CREATED:20241007T111132
SUMMARY:Babyplausch am Freitag1
LOCATION:Spielringel  Mollgasse  11-13
DESCRIPTION:Babyplausch am FreitagAustauschgruppe für Mamas und Papas von Babys und Kle
 inkindern Als Mama hat man oft das Bedürfnis sich mit anderen Mamas auszuta
 uschen, das könnt ihr ganz ungezwungen jetzt wieder (wie früher) am Freitag
  Vormittag im Spielringel bei Tee, Obst und Kuchen. Für die Babys und Klein
 kinder gibt es allerlei zu entdecken! Der Babyplausch findet ab 3 Anmeldung
 en statt!\nNächste Termine:\nFreitag 11.10. 09:30-11:00\nFreitag 18.10. 09:
 30-11:00\nFreitag 25.10. 09:30-11:00\nFreitag 08.11. 09:30-11:00\nFreitag 1
 5.11. 09:30-11:00\nFreitag 22.11. 09:30-11:00\n \n
X-ALT-DESC;FMTTYPE=text/html:<header class="frame-header" style="box-sizing: border-box; color: #2b2b2b;
  font-family: Roboto; font-size: 16px;"><h2 class="element-header" style="b
 ox-sizing: border-box; margin-top: 0px; margin-bottom: 0.5rem; font-family:
  Montserrat; font-weight: 300; line-height: 1.2; font-size: 2.275rem;">Baby
 plausch am Freitag</h2><h4 style="box-sizing: border-box; margin-top: 0px; 
 margin-bottom: 1rem; font-family: Montserrat; font-weight: 300; line-height
 : 1.2; font-size: 1.625rem;">Austauschgruppe für Mamas und Papas von Babys 
 und Kleinkindern</h4></header><div class="frame-container" style="box-sizin
 g: border-box; position: relative; width: 815px; padding-right: 0px; paddin
 g-left: 0px; margin-right: auto; margin-left: auto; max-width: 1140px; marg
 in-bottom: 0px; color: #2b2b2b; font-family: Roboto; font-size: 16px;"><div
  class="frame-inner" style="box-sizing: border-box;"><div class="textpic te
 xtpic-right" style="box-sizing: border-box; display: flex; flex-wrap: wrap;
  margin-left: -20px; margin-right: -20px; margin-bottom: 0px;"><div class="
 textpic-item textpic-gallery" style="box-sizing: border-box; order: 2; widt
 h: 427.5px; padding-left: 20px; padding-right: 20px; margin-bottom: 0px;"><
 div class="gallery-row" style="box-sizing: border-box; display: flex; flex-
 wrap: wrap; margin-left: -0.5rem; margin-right: -0.5rem; margin-bottom: -1r
 em;"><div class="gallery-item gallery-item-size-1" style="box-sizing: borde
 r-box; padding-left: 0.5rem; padding-right: 0.5rem; width: 403.5px;">&nbsp;
 </div></div></div><div class="textpic-item textpic-text" style="box-sizing:
  border-box; order: 1; width: 427.5px; padding-left: 20px; padding-right: 2
 0px; margin-bottom: 0px;"><p style="box-sizing: border-box; margin-top: 0px
 ; margin-bottom: 1rem;">Als Mama hat man oft das Bedürfnis sich mit anderen
  Mamas auszutauschen, das könnt ihr ganz ungezwungen jetzt wieder (wie früh
 er) am Freitag Vormittag im Spielringel bei Tee, Obst und Kuchen. Für die B
 abys und Kleinkinder gibt es allerlei zu entdecken! Der Babyplausch findet 
 ab 3 Anmeldungen statt!</p><p style="box-sizing: border-box; margin-top: 0p
 x; margin-bottom: 1rem;"><span style="box-sizing: border-box; font-weight: 
 bolder;">Nächste Termine:</span></p><p style="box-sizing: border-box; margi
 n-top: 0px; margin-bottom: 1rem;"><span style="box-sizing: border-box; font
 -weight: bolder;">Freitag 11.10. 09:30-11:00</span></p><p style="box-sizing
 : border-box; margin-top: 0px; margin-bottom: 1rem;"><span style="box-sizin
 g: border-box; font-weight: bolder;">Freitag 18.10. 09:30-11:00</span></p><
 p style="box-sizing: border-box; margin-top: 0px; margin-bottom: 1rem;"><sp
 an style="box-sizing: border-box; font-weight: bolder;">Freitag 25.10. 09:3
 0-11:00</span></p><p style="box-sizing: border-box; margin-top: 0px; margin
 -bottom: 1rem;"><span style="box-sizing: border-box; font-weight: bolder;">
 Freitag 08.11. 09:30-11:00</span></p><p style="box-sizing: border-box; marg
 in-top: 0px; margin-bottom: 1rem;"><span style="box-sizing: border-box; fon
 t-weight: bolder;">Freitag 15.11. 09:30-11:00</span></p><p style="box-sizin
 g: border-box; margin-top: 0px; margin-bottom: 1rem;"><span style="box-sizi
 ng: border-box; font-weight: bolder;">Freitag 22.11. 09:30-11:00</span></p>
 <p style="box-sizing: border-box; margin-top: 0px; margin-bottom: 1rem;">&n
 bsp;</p></div></div></div></div>
CONTACT:www.spielringel.at
X-EXTRAINFO:[preis='1600'][anmeldung='true']
DTSTAMP:20260423T094120
DTSTART:20241025T073000
DTEND:20241025T090000
SEQUENCE:0
TRANSP:OPAQUE
END:VEVENT
END:VCALENDAR