BEGIN:VCALENDAR
VERSION:2.0
PRODID:-//jEvents 2.0 for Joomla//EN
CALSCALE:GREGORIAN
METHOD:PUBLISH
BEGIN:VEVENT
UID:575be28fe88ad377fc4bb04dbfadbd1a
CATEGORIES:18. Bezirk
CREATED:20241015T150008
SUMMARY:Mama-Baby Yoga (in English)
LOCATION:be your muse yoga studio
DESCRIPTION:<p class="preFade fadeIn" style="white-space: pre-wrap; margin: 1rem 0px; l
 ine-height: var(--body-font-line-height); transition-property: opacity; ove
 rflow-wrap: break-word; caret-color: #000000; color: #000000; font-family: 
 Dosis; font-size: 19.200001px; letter-spacing: -0.384px; transition-timing-
 function: ease; transition-duration: 1.5s; transition-delay: 0.4s; opacity:
  1 !important;">Welcome to our mom-baby yoga classes, designed specifically
  for moms with their little ones in their first year of life. We focus spec
 ifically on your postpartum body, using movement and gentle exercises to he
 lp it heal, close and stabilize, and to help you regain strength and energy
 . We create a relaxed, playful and caring environment where you and your ba
 by can feel comfortable and have fun together.</p><p class="preFade fadeIn"
  style="white-space: pre-wrap; margin: 1rem 0px; line-height: var(--body-fo
 nt-line-height); transition-property: opacity; overflow-wrap: break-word; c
 aret-color: #000000; color: #000000; font-family: Dosis; font-size: 19.2000
 01px; letter-spacing: -0.384px; transition-timing-function: ease; transitio
 n-duration: 1.5s; transition-delay: 0.409091s; opacity: 1 !important;">This
  class is suitable for moms and babies in their first year and is suitable 
 for all levels, no previous yoga experience is required. Enjoy practicing y
 oga and connecting with other new moms in our community. Just come as you a
 re - we look forward to meeting you and your baby!</p><p class="preFade fad
 eIn" style="white-space: pre-wrap; margin: 1rem 0px; line-height: var(--bod
 y-font-line-height); transition-property: opacity; overflow-wrap: break-wor
 d; caret-color: #000000; color: #000000; font-family: Dosis; font-size: 19.
 200001px; letter-spacing: -0.384px; transition-timing-function: ease; trans
 ition-duration: 1.5s; transition-delay: 0.418182s; opacity: 1 !important;">
 &gt;&gt;&gt; Please reserve your place in advance!</p><p class="preFade fad
 eIn" style="white-space: pre-wrap; margin: 1rem 0px; line-height: var(--bod
 y-font-line-height); transition-property: opacity; overflow-wrap: break-wor
 d; caret-color: #000000; color: #000000; font-family: Dosis; font-size: 19.
 200001px; letter-spacing: -0.384px; transition-timing-function: ease; trans
 ition-duration: 1.5s; transition-delay: 0.427273s; opacity: 1 !important;">
 &gt;&gt;&gt; Please get the OK from your doctor before you take part in thi
 s course.</p><p class="preFade fadeIn" style="white-space: pre-wrap; margin
 : 1rem 0px 0px; line-height: var(--body-font-line-height); transition-prope
 rty: opacity; overflow-wrap: break-word; caret-color: #000000; color: #0000
 00; font-family: Dosis; font-size: 19.200001px; letter-spacing: -0.384px; t
 ransition-timing-function: ease; transition-duration: 1.5s; transition-dela
 y: 0.436364s; opacity: 1 !important;">&gt;&gt;&gt; To reserve your place, p
 lease send me a message to: <a href="mailto:hello@beyourmuse.at">hello@beyo
 urmuse.at</a> or visit the website: www.beyourmuse.at</p>
CONTACT:0660 782 5893
X-EXTRAINFO:[preis='1800'][anmeldung='true']
DTSTAMP:20260423T111514
DTSTART:20241023T090000
DTEND:20241023T101500
SEQUENCE:0
TRANSP:OPAQUE
END:VEVENT
END:VCALENDAR