BEGIN:VCALENDAR
VERSION:2.0
PRODID:-//jEvents 2.0 for Joomla//EN
CALSCALE:GREGORIAN
METHOD:PUBLISH
BEGIN:VEVENT
UID:d9bc5f7ace81da0384a129fa9084b2ca
CATEGORIES:18. Bezirk
CREATED:20241022T111241
SUMMARY:Multisensorisches Musikerleben für Klein und Groß
LOCATION:Spielringel  Mollgasse  11-13
DESCRIPTION:Multisensorisches Musikerleben für Klein und Groß(6-12 Monate)Kurstag: Donn
 erstag 14:00-14:45\nTermine: 07.11., 14.11., 21.11., 28.11., 05.12.\nIn die
 sem Musikkurs für Babys und ihre Begleitpersonen entdecken wir gemeinsam di
 e Welt von Klang, Rhythmus und Bewegung. Mit Liedern, Bewegungen und einfac
 hen Instrumenten fördern wir die Sinne der Kleinsten und unterstützen spiel
 erisch ihre motorische und kognitive Entwicklung. Durch multisensorische Re
 ize – von Klang bis Berührung – wird Musik mit dem ganzen Körper erlebbar. 
 Ein Kurs, der sowohl den Babys als auch den Erwachsenen Spaß macht, die Bin
 dung stärkt und musikalische Momente für „Kleine und Große“ schafft!\n
X-ALT-DESC;FMTTYPE=text/html:<h2 class="element-header" style="box-sizing: border-box; margin-top: 0px; 
 margin-bottom: 0.5rem; font-family: Montserrat; font-weight: 300; line-heig
 ht: 1.2; font-size: 2.275rem; color: #2b2b2b;">Multisensorisches Musikerleb
 en für Klein und Groß</h2><h4 style="box-sizing: border-box; margin-top: 0p
 x; margin-bottom: 1rem; font-family: Montserrat; font-weight: 300; line-hei
 ght: 1.2; font-size: 1.625rem; color: #2b2b2b;">(6-12 Monate)</h4><p style=
 "box-sizing: border-box; margin-top: 0px; margin-bottom: 1rem; color: #2b2b
 2b; font-family: Roboto; font-size: 16px;"><span class="text-primary font-w
 eight-bold" style="box-sizing: border-box; font-weight: 700 !important; col
 or: #158795 !important;">Kurstag:&nbsp;</span>Donnerstag 14:00-14:45</p><p 
 style="box-sizing: border-box; margin-top: 0px; margin-bottom: 1rem; color:
  #2b2b2b; font-family: Roboto; font-size: 16px;"><span class="text-primary 
 font-weight-bold" style="box-sizing: border-box; font-weight: 700 !importan
 t; color: #158795 !important;">Termine:&nbsp;</span>07.11., 14.11., 21.11.,
  28.11., 05.12.</p><p><span style="color: #2b2b2b; font-family: Roboto; fon
 t-size: 16px;">In diesem Musikkurs für Babys und ihre Begleitpersonen entde
 cken wir gemeinsam die Welt von Klang, Rhythmus und Bewegung. Mit&nbsp;Lied
 ern, Bewegungen und einfachen Instrumenten fördern wir die Sinne der Kleins
 ten und unterstützen spielerisch ihre motorische und kognitive Entwicklung.
  Durch multisensorische Reize – von Klang bis Berührung – wird Musik mit de
 m ganzen Körper erlebbar. Ein Kurs, der sowohl den Babys als auch den Erwac
 hsenen Spaß macht, die Bindung stärkt und musikalische Momente für „Kleine 
 und Große“ schafft!</span></p>
CONTACT:www.spielringel.at
X-EXTRAINFO:[preis='9000'][anmeldung='true']
DTSTAMP:20260423T111250
DTSTART:20241205T130000
DTEND:20241205T134500
SEQUENCE:0
TRANSP:OPAQUE
END:VEVENT
END:VCALENDAR