BEGIN:VCALENDAR
VERSION:2.0
PRODID:-//jEvents 2.0 for Joomla//EN
CALSCALE:GREGORIAN
METHOD:PUBLISH
BEGIN:VEVENT
UID:b287ea52e04541459207479758e9380e
CATEGORIES:2. Bezirk
CREATED:20241027T110748
SUMMARY:Multisensorische Entdeckungswelt, 14 Monate bis 3 Jahre TINIS KINDERZIMMER
LOCATION:Tini's Kinderzimmer
DESCRIPTION:In der “Multisensorischen Entdeckungswelt” entdecken Kleinkinder die Welt m
 it all ihren Sinnen. Der Kurs bietet eine Vielzahl von Aktivitäten, die spe
 ziell darauf ausgerichtet sind, die sensorische Wahrnehmung der Kinder zu f
 ördern und zu erweitern.\nSchwerpunkte des Kurses:\nSensory Play:Spielerisc
 he Aktivitäten, die die Sinne anregen und die sensorische Integration unter
 stützen. Wir arbeiten mit verschiedenen Materialien wie Reis, Linsen und an
 derem Kleinmaterial, um unterschiedliche sensorische Erfahrungen zu ermögli
 chen.Sinne erfahren: Verschiedene Stationen und Materialien, die den Tastsi
 nn, Geruchssinn, Hörsinn und Sehsinn ansprechen.Kreatives Gestalten: Bastel
 - und Malprojekte, die die Feinmotorik und Kreativität fördern.Bewegungsspi
 ele: Aktivitäten, die die grobmotorischen Fähigkeiten und das Körperbewusst
 sein stärken.Musik und Rhythmus: Musikalische Einheiten, die das Rhythmusge
 fühl und die auditive Wahrnehmung schulen.Ziele des Kurses:\nFörderung der 
 sensorischen Wahrnehmung und IntegrationUnterstützung der motorischen Entwi
 cklungStärkung der sozialen Fähigkeiten durch gemeinsames Spielen und Erleb
 enAnregung der Kreativität und FantasieGebühr pro Kind 80€ für 4 Einheiten\
 nGeschwisterkind ab 6 Monaten: 72€ für 4 Einheiten\nZwillinge: 144€ insgesa
 mt für 4 Einheiten\nTermine:\nMo. 04.11.2024 09:20–10:20Mo. 11.11.2024 09:2
 0–10:20Mo. 18.11.2024 09:20–10:20Mo. 25.11.2024 09:20–10:20\n - Einstieg in
  den Kurs ist jederzeit möglich, sofern Platz ist. Es gilt der aliquote Kur
 sbeitrag ab Einstiegsdatum!\n
X-ALT-DESC;FMTTYPE=text/html:<p style="box-sizing: border-box; margin: 0.8rem 0px 0.2rem; color: #212529
 ; font-family: Titillium, sans-serif; font-size: 16px;">In der “Multisensor
 ischen Entdeckungswelt” entdecken Kleinkinder die Welt mit all ihren Sinnen
 . Der Kurs bietet eine Vielzahl von Aktivitäten, die speziell darauf ausger
 ichtet sind, die sensorische Wahrnehmung der Kinder zu fördern und zu erwei
 tern.</p><p style="box-sizing: border-box; margin: 0.8rem 0px 0.2rem; color
 : #212529; font-family: Titillium, sans-serif; font-size: 16px;"><span styl
 e="box-sizing: border-box;">Schwerpunkte des Kurses:</span></p><p style="bo
 x-sizing: border-box; margin: 0.8rem 0px 0.2rem; color: #212529; font-famil
 y: Titillium, sans-serif; font-size: 16px;">Sensory Play:<i style="box-sizi
 ng: border-box;"></i>Spielerische Aktivitäten, die die Sinne anregen und di
 e sensorische Integration unterstützen. Wir arbeiten mit verschiedenen Mate
 rialien wie Reis, Linsen und anderem Kleinmaterial, um unterschiedliche sen
 sorische Erfahrungen zu ermöglichen.<br style="box-sizing: border-box;" /><
 br style="box-sizing: border-box;" />Sinne erfahren: Verschiedene Stationen
  und Materialien, die den Tastsinn, Geruchssinn, Hörsinn und Sehsinn anspre
 chen.<br style="box-sizing: border-box;" /><br style="box-sizing: border-bo
 x;" />Kreatives Gestalten: Bastel- und Malprojekte, die die Feinmotorik und
  Kreativität fördern.<br style="box-sizing: border-box;" /><br style="box-s
 izing: border-box;" />Bewegungsspiele: Aktivitäten, die die grobmotorischen
  Fähigkeiten und das Körperbewusstsein stärken.<br style="box-sizing: borde
 r-box;" /><br style="box-sizing: border-box;" />Musik und Rhythmus: Musikal
 ische Einheiten, die das Rhythmusgefühl und die auditive Wahrnehmung schule
 n.<br style="box-sizing: border-box;" /><br style="box-sizing: border-box;"
  />Ziele des Kurses:</p><ul style="box-sizing: border-box; margin-top: 0px;
  margin-bottom: 1rem; color: #212529; font-family: Titillium, sans-serif; f
 ont-size: 16px;"><li style="box-sizing: border-box;">Förderung der sensoris
 chen Wahrnehmung und Integration</li><li style="box-sizing: border-box;">Un
 terstützung der motorischen Entwicklung</li><li style="box-sizing: border-b
 ox;">Stärkung der sozialen Fähigkeiten durch gemeinsames Spielen und Erlebe
 n</li><li style="box-sizing: border-box;">Anregung der Kreativität&nbsp;und
 &nbsp;Fantasie</li></ul><p style="box-sizing: border-box; margin: 0.8rem 0p
 x 0.2rem; color: #212529; font-family: Titillium, sans-serif; font-size: 16
 px;">Gebühr pro Kind 80€ für 4 Einheiten</p><p style="box-sizing: border-bo
 x; margin: 0.8rem 0px 0.2rem; color: #212529; font-family: Titillium, sans-
 serif; font-size: 16px;">Geschwisterkind ab 6 Monaten: 72€ für 4 Einheiten<
 /p><p style="box-sizing: border-box; margin: 0.8rem 0px 0.2rem; color: #212
 529; font-family: Titillium, sans-serif; font-size: 16px;">Zwillinge: 144€ 
 insgesamt für 4 Einheiten</p><p style="box-sizing: border-box; margin: 0.8r
 em 0px 0.2rem; color: #212529; font-family: Titillium, sans-serif; font-siz
 e: 16px;">Termine:</p><ol class="toggable-list toggable" style="box-sizing:
  border-box; margin-top: 0px; margin-bottom: 1rem; list-style: none; paddin
 g-left: 0px; color: #212529; font-family: Titillium, sans-serif; font-size:
  0.9rem;"><li style="box-sizing: border-box; font-size: 0.9rem; position: r
 elative; margin: 0.4rem 0px 0.4rem calc(25px + 0.5rem);">Mo. 04.11.2024 09:
 20–10:20</li><li style="box-sizing: border-box; font-size: 0.9rem; position
 : relative; margin: 0.4rem 0px 0.4rem calc(25px + 0.5rem);">Mo. 11.11.2024 
 09:20–10:20</li><li style="box-sizing: border-box; font-size: 0.9rem; posit
 ion: relative; margin: 0.4rem 0px 0.4rem calc(25px + 0.5rem);">Mo. 18.11.20
 24 09:20–10:20</li><li style="box-sizing: border-box; font-size: 0.9rem; po
 sition: relative; margin: 0.4rem 0px 0.4rem calc(25px + 0.5rem);">Mo. 25.11
 .2024 09:20–10:20</li><li></li></ol><p style="box-sizing: border-box; margi
 n: 0.8rem 0px 0.2rem; color: #212529; font-family: Titillium, sans-serif; f
 ont-size: 16px;">Einstieg in den Kurs ist jederzeit möglich, sofern Platz i
 st. Es gilt der aliquote Kursbeitrag ab Einstiegsdatum!</p>
CONTACT:tini@tiniskinderzimmer.at , 0699 17 36 01 95
X-EXTRAINFO:[preis='2000'][anmeldung='true']
DTSTAMP:20260423T111309
DTSTART:20241125T082000
DTEND:20241125T092000
SEQUENCE:0
TRANSP:OPAQUE
END:VEVENT
END:VCALENDAR