BEGIN:VCALENDAR
VERSION:2.0
PRODID:-//jEvents 2.0 for Joomla//EN
CALSCALE:GREGORIAN
METHOD:PUBLISH
BEGIN:VEVENT
UID:32ebd36be174cb9b83823d044c343263
CATEGORIES:2. Bezirk
CREATED:20241027T111245
SUMMARY:Minikurs Themenstunde Babyzeichensprache, 5-18 Monate in TINI'S KINDERZIMMER
LOCATION:Tini's Kinderzimmer
DESCRIPTION:THEMA: Herbst, Zootiere, Spielplatz\nIn diesem Mini-Kurs lernst du gemeinsa
 m mit deinem Kind neue themenbezogene Babyzeichen auf die gewohnte spieleri
 sche Weise durch Musik, Spiel und Spaß kennen. Es ist aber auch möglich, ei
 nfach mal in die Welt der Babyzeichensprache reinzuschnuppern. \nGebühr pro
  Kind 60€ für 3 Einheiten\nZwillinge 108€ für 3 Einheiten\nTermine:\nFr. 08
 .11.2024 09:30–10:30Fr. 22.11.2024 09:30–10:30Fr. 29.11.2024 09:30–10:30Ein
 stieg in den Kurs ist jederzeit möglich, sofern Platz ist. Es gilt der aliq
 uote Kursbeitrag ab Einstiegsdatum!\n
X-ALT-DESC;FMTTYPE=text/html:<p style="box-sizing: border-box; margin: 0.8rem 0px 0.2rem; color: #212529
 ; font-family: Titillium, sans-serif; font-size: 16px;">THEMA: Herbst, Zoot
 iere, Spielplatz</p><p style="box-sizing: border-box; margin: 0.8rem 0px 0.
 2rem; color: #212529; font-family: Titillium, sans-serif; font-size: 16px;"
 ><span style="box-sizing: border-box; color: #111111;">In diesem Mini-Kurs 
 lernst du gemeinsam mit deinem Kind neue themenbezogene Babyzeichen auf die
  gewohnte spielerische Weise durch Musik, Spiel und Spaß kennen. Es ist abe
 r auch möglich, einfach mal in die Welt der Babyzeichensprache reinzuschnup
 pern.&nbsp;</span></p><p style="box-sizing: border-box; margin: 0.8rem 0px 
 0.2rem; color: #212529; font-family: Titillium, sans-serif; font-size: 16px
 ;"><span style="box-sizing: border-box; color: #111111;">Gebühr pro Kind 60
 € für 3 Einheiten</span></p><p style="box-sizing: border-box; margin: 0.8re
 m 0px 0.2rem; color: #212529; font-family: Titillium, sans-serif; font-size
 : 16px;"><span style="box-sizing: border-box; color: #111111;">Zwillinge 10
 8€ für 3 Einheiten</span></p><p style="box-sizing: border-box; margin: 0.8r
 em 0px 0.2rem; color: #212529; font-family: Titillium, sans-serif; font-siz
 e: 16px;">Termine:</p><ol class="toggable-list toggable" style="box-sizing:
  border-box; margin-top: 0px; margin-bottom: 1rem; list-style: none; paddin
 g-left: 0px; color: #212529; font-family: Titillium, sans-serif; font-size:
  0.9rem;"><li style="box-sizing: border-box; font-size: 0.9rem; position: r
 elative; margin: 0.4rem 0px 0.4rem calc(25px + 0.5rem);">Fr. 08.11.2024 09:
 30–10:30</li><li style="box-sizing: border-box; font-size: 0.9rem; position
 : relative; margin: 0.4rem 0px 0.4rem calc(25px + 0.5rem);">Fr. 22.11.2024 
 09:30–10:30</li><li style="box-sizing: border-box; font-size: 0.9rem; posit
 ion: relative; margin: 0.4rem 0px 0.4rem calc(25px + 0.5rem);">Fr. 29.11.20
 24 09:30–10:30</li></ol><p style="box-sizing: border-box; margin: 0.8rem 0p
 x 0.2rem; color: #212529; font-family: Titillium, sans-serif; font-size: 16
 px;">Einstieg in den Kurs ist jederzeit möglich, sofern Platz ist. Es gilt 
 der aliquote Kursbeitrag ab Einstiegsdatum!</p>
CONTACT:tini@tiniskinderzimmer.at , 0699 17 36 01 95
X-EXTRAINFO:[preis='2000'][anmeldung='true']
DTSTAMP:20260423T091229
DTSTART:20241122T083000
DTEND:20241122T093000
SEQUENCE:0
TRANSP:OPAQUE
END:VEVENT
END:VCALENDAR