BEGIN:VCALENDAR
VERSION:2.0
PRODID:-//jEvents 2.0 for Joomla//EN
CALSCALE:GREGORIAN
METHOD:PUBLISH
BEGIN:VEVENT
UID:823e740f6cd1317453deeccdeab23d78
CATEGORIES:18. Bezirk
CREATED:20241202T121819
SUMMARY:Spiel & Spaß für die Kleinsten
LOCATION:Spielringel  Mollgasse  11-13
DESCRIPTION:<header class="frame-header" style="box-sizing: border-box; color: #2b2b2b;
  font-family: Roboto; font-size: 16px;"><h2 class="element-header" style="b
 ox-sizing: border-box; margin-top: 0px; margin-bottom: 0.5rem; font-family:
  Montserrat; font-weight: 300; line-height: 1.2; font-size: 2.275rem;">Spie
 l &amp; Spaß für die Kleinsten ab 03.12.</h2><h4 style="box-sizing: border-
 box; margin-top: 0px; margin-bottom: 1rem; font-family: Montserrat; font-we
 ight: 300; line-height: 1.2; font-size: 1.625rem;">für Babys und Kleinkinde
 r 8 Monate - 2 Jahre</h4></header><div class="frame-container" style="box-s
 izing: border-box; position: relative; width: 815px; padding-right: 0px; pa
 dding-left: 0px; margin-right: auto; margin-left: auto; max-width: 1140px; 
 margin-bottom: 0px; color: #2b2b2b; font-family: Roboto; font-size: 16px;">
 <div class="frame-inner" style="box-sizing: border-box;"><div class="textpi
 c textpic-right" style="box-sizing: border-box; display: flex; flex-wrap: w
 rap; margin-left: -20px; margin-right: -20px; margin-bottom: 0px;"><div cla
 ss="textpic-item textpic-gallery" style="box-sizing: border-box; order: 2; 
 width: 427.5px; padding-left: 20px; padding-right: 20px; margin-bottom: 0px
 ;"><div class="gallery-row" style="box-sizing: border-box; display: flex; f
 lex-wrap: wrap; margin-left: -0.5rem; margin-right: -0.5rem; margin-bottom:
  -1rem;"><div class="gallery-item gallery-item-size-1" style="box-sizing: b
 order-box; padding-left: 0.5rem; padding-right: 0.5rem; width: 403.5px;">&n
 bsp;</div></div></div><div class="textpic-item textpic-text" style="box-siz
 ing: border-box; order: 1; width: 427.5px; padding-left: 20px; padding-righ
 t: 20px; margin-bottom: 0px;"><p style="box-sizing: border-box; margin-top:
  0px; margin-bottom: 1rem;"><span class="text-primary font-weight-bold" sty
 le="box-sizing: border-box; font-weight: 700 !important; color: #158795 !im
 portant;">Start:&nbsp;</span>03.12.2024</p><p style="box-sizing: border-box
 ; margin-top: 0px; margin-bottom: 1rem;"><span class="text-primary font-wei
 ght-bold" style="box-sizing: border-box; font-weight: 700 !important; color
 : #158795 !important;">Mit:&nbsp;</span><a href="https://spielringel.at/ang
 ebote/das-team/mag-claudia-weissmann-karacsonyi" style="box-sizing: border-
 box; color: #158795; text-decoration-line: none; background-color: transpar
 ent;">Claudia</a></p><p style="box-sizing: border-box; margin-top: 0px; mar
 gin-bottom: 1rem;"><span class="text-primary font-weight-bold" style="box-s
 izing: border-box; font-weight: 700 !important; color: #158795 !important;"
 >Kurstag:&nbsp;</span>Dienstag 09:30-10:30</p><p style="box-sizing: border-
 box; margin-top: 0px; margin-bottom: 1rem;"><span class="text-primary font-
 weight-bold" style="box-sizing: border-box; font-weight: 700 !important; co
 lor: #158795 !important;">Termine:&nbsp;</span>03.12., 10.12., 17.12., 07.0
 1., 14.01.</p><p style="box-sizing: border-box; margin-top: 0px; margin-bot
 tom: 1rem;"><span class="text-primary font-weight-bold" style="box-sizing: 
 border-box; font-weight: 700 !important; color: #158795 !important;">Kosten
 :&nbsp;</span>€90,- (5 Einheiten)</p><p style="box-sizing: border-box; marg
 in-top: 0px; margin-bottom: 1rem;">In diesem Kurs sollen Kinder und Erwachs
 ene gemeinsam viel Spaß haben. Das freie Spiel steht im Vordergrund. Nebenb
 ei werden motorische Fähigkeiten geschult, alle Sinne gefördert und erste s
 oziale Kontakte zu Gleichaltrigen gemacht.</p><p style="box-sizing: border-
 box; margin-top: 0px; margin-bottom: 0px;">Auch die "Großen" können Erfahru
 ngen austauschen und neue Kontakte knüpfen.</p></div></div></div></div>
CONTACT:www.spielringel.at
X-EXTRAINFO:[preis='9000'][anmeldung='true']
DTSTAMP:20260423T111559
DTSTART:20241203T083000
DTEND:20241203T093000
SEQUENCE:0
TRANSP:OPAQUE
END:VEVENT
END:VCALENDAR