BEGIN:VCALENDAR
VERSION:2.0
PRODID:-//jEvents 2.0 for Joomla//EN
CALSCALE:GREGORIAN
METHOD:PUBLISH
BEGIN:VEVENT
UID:1e2a908691b197e4e49dde83ca19d221
CATEGORIES:23. Bezirk
CREATED:20250409T122630
SUMMARY:Ballettvorbereitung für Kinder (4-6 Jahre) 
LOCATION:VHS Liesing\, Liesinger Platz 3
DESCRIPTION:Der Kurs bietet eine altersgerechte Einführung in die Welt des Balletts, be
 i der die Freude an der Bewegung und am gemeinsamen Tanzen im Mittelpunkt s
 teht. In spielerischer Form werden Grundpositionen, Armführungen, Bewegungs
 abläufe und vieles mehr vermittelt. Aufwärm-, Dehn-, Haltungs- und Gleichge
 wichtsübungen begleiten die Arbeit an einer kleinen Choreografie, die am En
 de des Kurses präsentiert wird.\n
X-ALT-DESC;FMTTYPE=text/html:<p style="text-align: left;">Der Kurs bietet eine altersgerechte Einführung
  in die Welt des Balletts, bei der die Freude an der Bewegung und am gemein
 samen Tanzen im Mittelpunkt steht. In spielerischer Form werden Grundpositi
 onen, Armführungen, Bewegungsabläufe und vieles mehr vermittelt. Aufwärm-, 
 Dehn-, Haltungs- und Gleichgewichtsübungen begleiten die Arbeit an einer kl
 einen Choreografie, die am Ende des Kurses präsentiert wird.</p>
CONTACT:liesing@vhs.at, +43-1-89174-123000
X-EXTRAINFO:[preis='4100'][anmeldung='true']
DTSTAMP:20260425T200544
DTSTART:20250516T140000
DTEND:20250516T150000
SEQUENCE:0
TRANSP:OPAQUE
END:VEVENT
END:VCALENDAR