BEGIN:VCALENDAR
VERSION:2.0
PRODID:-//jEvents 2.0 for Joomla//EN
CALSCALE:GREGORIAN
METHOD:PUBLISH
BEGIN:VEVENT
UID:1e2a908691b197e4e49dde83ca19d221
CATEGORIES:23. Bezirk
CREATED:20250409T122630
SUMMARY:Ballettvorbereitung für Kinder (4-6 Jahre) 
LOCATION:VHS Liesing\, Liesinger Platz 3
DESCRIPTION:<p style="text-align: left;">Der Kurs bietet eine altersgerechte Einführung
  in die Welt des Balletts, bei der die Freude an der Bewegung und am gemein
 samen Tanzen im Mittelpunkt steht. In spielerischer Form werden Grundpositi
 onen, Armführungen, Bewegungsabläufe und vieles mehr vermittelt. Aufwärm-, 
 Dehn-, Haltungs- und Gleichgewichtsübungen begleiten die Arbeit an einer kl
 einen Choreografie, die am Ende des Kurses präsentiert wird.</p>
CONTACT:liesing@vhs.at, +43-1-89174-123000
X-EXTRAINFO:[preis='4100'][anmeldung='true']
DTSTAMP:20260425T215111
DTSTART:20250523T140000
DTEND:20250523T150000
SEQUENCE:0
TRANSP:OPAQUE
END:VEVENT
END:VCALENDAR