BEGIN:VCALENDAR
VERSION:2.0
PRODID:-//jEvents 2.0 for Joomla//EN
CALSCALE:GREGORIAN
METHOD:PUBLISH
BEGIN:VEVENT
UID:5812536d9a5cafa46994995b55e93730
CATEGORIES:8. Bezirk
CREATED:20250507T092536
SUMMARY:Eltern-Kind Capoeira (3-6 Jahre) 
LOCATION:VHS Josefstadt\, Schmidgasse 18\, 1080 Wien
DESCRIPTION:Eltern-Kind Capoeira (3-6 Jahre) \n \nDi 5x, 01.-29.07.2025, 16-17 Uhr\nVHS
  Josefstadt\n \nMárcio Ferreira Santos de Aquino\nGebühr: 41 €\n \nCapoeira
  ist eine brasilianische Kampfkunst, bei der Akrobatik, Tanz und Musik eine
  wichtige Rolle spielen. Kinder begeistert am Capoeira-Training der Mix aus
  Fun und Action. Altersgemäß aufbereitet, werden im Kurs die wichtigsten Gr
 undtechniken vermittelt und geübt. Die Kinder trainieren dabei körperliche 
 Fitness, Motorik und Rhythmik und profitieren durch mehr Bewegungssicherhei
 t und Selbstvertrauen.\n \nAnmeldung online (https://www.vhs.at/de/k/279722
 201), per E-Mail josefstadt@vhs.at  (mailto:josefstadt@vhs.at )oder telefon
 isch unter :+43 1 89 174 106 001\n
X-ALT-DESC;FMTTYPE=text/html:<p><strong>Eltern-Kind Capoeira (3-6 Jahre)&nbsp;</strong></p><p>&nbsp;</p>
 <p>Di 5x, 01.-29.07.2025, 16-17 Uhr</p><p>VHS Josefstadt</p><p>&nbsp;</p><p
 >Márcio Ferreira Santos de Aquino</p><p>Gebühr: 41 €</p><p>&nbsp;</p><p>Cap
 oeira ist eine brasilianische Kampfkunst, bei der Akrobatik, Tanz und Musik
  eine wichtige Rolle spielen. Kinder begeistert am Capoeira-Training der Mi
 x aus Fun und Action. Altersgemäß aufbereitet, werden im Kurs die wichtigst
 en Grundtechniken vermittelt und geübt. Die Kinder trainieren dabei körperl
 iche Fitness, Motorik und Rhythmik und profitieren durch mehr Bewegungssich
 erheit und Selbstvertrauen.</p><p>&nbsp;</p><p>Anmeldung <a href="https://w
 ww.vhs.at/de/k/279722201" target="_blank" rel="noopener">online</a>, per E-
 Mail <a href="mailto:josefstadt@vhs.at ">josefstadt@vhs.at </a>oder telefon
 isch unter&nbsp;<span style="font-family: Calibri, sans-serif; font-size: 1
 1pt; background-color: inherit; color: inherit; caret-color: auto;">:+43 1 
 89 174 106 001</span></p>
CONTACT:josefstadt@vhs.at
X-EXTRAINFO:[preis='4100'][anmeldung='true']
DTSTAMP:20260425T232958
DTSTART:20250701T140000
DTEND:20250701T150000
SEQUENCE:0
TRANSP:OPAQUE
END:VEVENT
END:VCALENDAR