BEGIN:VCALENDAR
VERSION:2.0
PRODID:-//jEvents 2.0 for Joomla//EN
CALSCALE:GREGORIAN
METHOD:PUBLISH
BEGIN:VEVENT
UID:ba710c4aef5dd916fa51734c3a1513b5
CATEGORIES:8. Bezirk
CREATED:20250507T091135
SUMMARY:Babyturnen (8-15 Monate)
LOCATION:VHS Josefstadt\, Schmidgasse 18\, 1080 Wien
DESCRIPTION:Babyturnen (5-15 Monate)\n \nDi 6x, 24.06.-29.07.2025, 10:30-11:30 Uhr\nVHS
  Josefstadt\n \nIlaria Chiappetta\nZusatzinfo: Kein Aufzug!\nGebühr: 49 €\n
  \nZiel des Babyturnens ist es, die Babys mit einfachen, spielerischen Übun
 gen in ihrer Bewegungsentwicklung zu fördern. Gleichzeitig werden die Sinne
  geschärft und die Körperwahrnehmung positiv beeinflusst. Vor allem aber so
 llen Kinder und Eltern Spaß an der gemeinsamen Bewegung haben.\n \nAnmeldun
 g online (https://www.vhs.at/de/k/279723142), per E-Mail josefstadt@vhs.at 
 (mailto:josefstadt@vhs.at) oder telefonisch unter :+43 1 89 174 106 000\n
X-ALT-DESC;FMTTYPE=text/html:<p>Babyturnen (5-15 Monate)</p><p>&nbsp;</p><p>Di 6x, 24.06.-29.07.2025, 10
 :30-11:30 Uhr</p><p>VHS Josefstadt</p><p>&nbsp;</p><p>Ilaria Chiappetta</p>
 <p>Zusatzinfo: Kein Aufzug!</p><p>Gebühr: 49 €</p><p>&nbsp;</p><p>Ziel des 
 Babyturnens ist es, die Babys mit einfachen, spielerischen Übungen in ihrer
  Bewegungsentwicklung zu fördern. Gleichzeitig werden die Sinne geschärft u
 nd die Körperwahrnehmung positiv beeinflusst. Vor allem aber sollen Kinder 
 und Eltern Spaß an der gemeinsamen Bewegung haben.</p><p>&nbsp;</p><p>Anmel
 dung <a href="https://www.vhs.at/de/k/279723142">online</a>, per E-Mail <a 
 href="mailto:josefstadt@vhs.at">josefstadt@vhs.at</a>&nbsp;oder telefonisch
  unter&nbsp;<span style="font-family: Calibri, sans-serif; font-size: 11pt;
  background-color: inherit; color: inherit; caret-color: auto;">:+43 1 89 1
 74 106 000</span></p>
CONTACT:josefstadt@vhs.at
X-EXTRAINFO:[preis='4900'][anmeldung='true']
DTSTAMP:20260425T232929
DTSTART:20250624T083000
DTEND:20250624T093000
SEQUENCE:0
TRANSP:OPAQUE
END:VEVENT
END:VCALENDAR