BEGIN:VCALENDAR
VERSION:2.0
PRODID:-//jEvents 2.0 for Joomla//EN
CALSCALE:GREGORIAN
METHOD:PUBLISH
BEGIN:VEVENT
UID:9cae844597584ca538e6a8253bda72bb
CATEGORIES:7. Bezirk
CREATED:20250522T081335
SUMMARY:SCHIMMER immersive Tanzinstallation 6 -18 Monate Dschungel Wien
LOCATION:Dschungel Wien\, Museumsquartier
DESCRIPTION:SCHIMMER\n \nImmersive Tanzinstallation\n \n6‒18 Monate\n30 Minuten\n(ansch
 l. freier Spielausklang)\nOhne Sprache\n \nThemen: Sensorische Wahrnehmung,
 \nErkundung der Umwelt, Interaktion,\nRhythmus und Bewegung\n \nSCHIMMER is
 t eine immersive Tanzinstallation für Babys und ihre Erwachsenen, die die s
 ensorische Wahrnehmung durch Tanz, Licht und Rhythmus stimuliert.\n \nInspi
 riert von den Erfahrungen, die Kinder schon im Bauch der Mutter mit Licht u
 nd Bewegung machen, lädt SCHIMMER seine jungen Zuschauer*innen ein, eine We
 lt der sanften Klänge und leuchtenden Farben zu entdecken.\n \nDas Projekt 
 bringt Tanz, Lichtkunst und Live-Percussion zusammen, um eine einzigartige 
 Umgebung zu schaffen, in der Babys aktiv mit ihrer Umgebung interagieren kö
 nnen. Das VRUM Performing Arts Collective setzt seine Erforschung der darst
 ellenden Künste für die Allerkleinsten fort, indem es eine Landschaft schaf
 ft, die zum Entdecken, Fühlen und Verweilen einlädt.\n \nTICKETS unter: htt
 ps://www.dschungelwien.at/event/schimmer (https://www.dschungelwien.at/even
 t/schimmer)\n
X-ALT-DESC;FMTTYPE=text/html:<p>SCHIMMER</p><p>&nbsp;</p><p>Immersive Tanzinstallation</p><p>&nbsp;</p><
 div class="event-full__info-text-text"><p>6‒18 Monate<br />30 Minuten<br />
 (anschl. freier Spielausklang)<br />Ohne Sprache</p><p>&nbsp;</p></div><div
  class="event-full__info-text-text"><p>Themen: Sensorische Wahrnehmung,<br 
 />Erkundung der Umwelt, Interaktion,<br />Rhythmus und Bewegung</p><p>&nbsp
 ;</p><p style="text-align: justify;"><span class="plakat">SCHIMMER</span>&n
 bsp;ist eine immersive Tanzinstallation für Babys und ihre Erwachsenen, die
  die sensorische Wahrnehmung durch Tanz, Licht und Rhythmus stimuliert.</p>
 <p>&nbsp;</p><p style="text-align: justify;">Inspiriert von den Erfahrungen
 , die Kinder schon im Bauch der Mutter mit Licht und Bewegung machen, lädt&
 nbsp;<span class="plakat">SCHIMMER&nbsp;</span>seine jungen Zuschauer*innen
  ein, eine Welt der sanften Klänge und leuchtenden Farben zu entdecken.</p>
 <p style="text-align: justify;">&nbsp;</p><p style="text-align: justify;">D
 as Projekt bringt Tanz, Lichtkunst und Live-Percussion zusammen, um eine ei
 nzigartige Umgebung zu schaffen, in der Babys aktiv mit ihrer Umgebung inte
 ragieren können. Das VRUM Performing Arts Collective setzt seine Erforschun
 g der darstellenden Künste für die Allerkleinsten fort, indem es eine Lands
 chaft schafft, die zum Entdecken, Fühlen und Verweilen einlädt.</p><p>&nbsp
 ;</p><p>TICKETS unter:&nbsp;<a href="https://www.dschungelwien.at/event/sch
 immer">https://www.dschungelwien.at/event/schimmer</a></p></div>
CONTACT:01 522072020,  tickets@dschungelwien.at
X-EXTRAINFO:[preis='1300'][anmeldung='true']
DTSTAMP:20260425T233040
DTSTART:20250601T140000
DTEND:20250601T150000
SEQUENCE:0
TRANSP:OPAQUE
END:VEVENT
END:VCALENDAR